Workbook

Sheet Predračun
A1: PRILOGA H/1
A3: PREDRAČUN št.: ______
A6: OBVOZNA CESTA LIPCE - ČRNA VAS
A8: V skladu s pogoji predmetnega javnega naročila ponujamo izvedbo celotnih razpisanih del, po popisu del in količin
B10: SKUPNA REKAPITULACIJA | E10: Vrednost (v EUR)
A12: 1 | B12: RUŠENJE ČUVAJNICE | E12: ='rušenje čuvajnice'!F24 -> 0
A14: 2 | B14: CESTA LIPCE - ČRNA VAS | E14: =cesta!F183 -> 0
A16: 3 | B16: KAMNITA ZLOŽBA | E16: ='kamnita zložba'!F87 -> 0
A18: 4 | B18: JAVNA RAZSVETLJAVA - CESTA | E18: ='javna razsvetljava'!F33 -> 0
A20: 5 | B20: SKRAJŠANJE TIROV NA POSTAJI VINTGAR | E20: ='Skrajšanje tirov'!F36 -> 0
A22: 6 | B22: VN KABEL | E22: ='VN kabel'!F34 -> 0
A24: 7 | B24: OBNOVA KRIŽIŠČA NA DRŽAVNI CESTI JAVORNIK-GORJE | E24: ='obnova križišča'!F93 -> 0
A26: 8 | B26: JAVNA RAZSVETLJAVA KRIŽIŠČE | E26: ='JR križišče'!F31 -> 0
A28: 9 | B28: NEPREDVIDENA DELA (10 % OD 1+2+3+4+5+6+7+8) | E28: =SUM(E12:E26)*10% -> 0
B30: SKUPAJ | E30: =SUM(E12:E28) -> 0
B32: EVENTUELNI POPUST _________% | E32: 0
B34: SKUPAJ S POPUSTOM | E34: =E30-E32 -> 0
B36: DDV | E36: =E34*0.22 -> 0
B38: PONUDBENA VREDNOST SKUPAJ | E38: =E34+E36 -> 0
A40: Cena na enoto je fiksna.
C44: (žig)
B46: (kraj in datum) | E46: (podpis odgovorne osebe)

Sheet rušenje čuvajnice
B1: RUŠENJE "ČUVAJNICA"
A4: Šifra | B4: Opis dela | C4: Enota | D4: Količina | E4: Cena/E (v €) | F4: Vrednost (v €)
C5: 1 | D5: 2 | E5: 3 | F5: 4 (2x3)
A6: 01 | B6: RUŠENJA
B7: *Opomba: Vsa rušenja vključujejo vso potrebno zaščito, odvoz ruševin deponijo po izbiri izvajalca s stroški deponiranja
A8: 1. | B8: Rušenje objekta čuvajnice kompletno s temelji, kletjo in pritličjem. Temelji, kletne stene, stopnice in plošče so betonske, ostale stene zidane. Objekt je brez inštalacij in stavbnega pohištva, tlorisne dimenzije 6,23x5,33 m. | C8: kompl | D8: 1 | F8: =ROUND($D8*E8,2) -> 0
A9: 2. | B9: Rušenje stopniščne ograje (L=4,0m h=1,1m) | C9: kompl | D9: 1 | F9: =ROUND($D9*E9,2) -> 0
B10: SKUPAJ RUŠENJA | F10: =SUM(F8:F9) -> 0
A13: 02 | B13: ZEMELJSKA DELA
A14: 1. | B14: Dobava in vgradnja tampona 0/60 | C14: m3 | D14: 23.81 | F14: =ROUND($D14*E14,2) -> 0
A15: 2. | B15: Humusiranje in zatravitev zelenic brez valjanja v debelini 15 cm z dobavo in dovozom humusa | C15: m3 | D15: 29.02 | F15: =ROUND($D15*E15,2) -> 0
B16: SKUPAJ ZEMLEJSKA DELA | F16: =SUM(F14:F15) -> 0
B20: REKAPITULACIJA
A21: 01 | B21: RUŠENJA | F21: =F10 -> 0
A22: 02 | B22: ZEMELJSKA DELA | F22: =F16 -> 0
B24: SKUPAJ | F24: =SUM(F21:F23) -> 0

Sheet cesta
B1: CESTA LIPCE - ČRNA VAS
A4: Šifra | B4: Opis dela | C4: Enota | D4: Količina | E4: Cena/E (v €) | F4: Vrednost (v €)
C5: 1 | D5: 2 | E5: 3 | F5: 4 (2x3)
A7: 1.0 | B7: PREDDELA
A9: 1.1 | B9: Zakoličba projektiranih osi in zavarovanje | C9: m¹ | D9: 490 | F9: =ROUND($D9*E9,2) -> 0
A10: 1.2 | B10: Zakoličba komunalnih vodov in zavarovanje
A11: 1.2.1 | B11: NN elektro vodi | C11: kompl | D11: 1 | F11: =ROUND($D11*E11,2) -> 0
A12: 1.2.2 | B12: vodovod | C12: kompl | D12: 1 | F12: =ROUND($D12*E12,2) -> 0
A13: 1.2.3 | B13: plin | C13: kompl | D13: 1 | F13: =ROUND($D13*E13,2) -> 0
A14: 1.2.4 | B14: TK | C14: kompl | D14: 1 | F14: =ROUND($D14*E14,2) -> 0
A15: 1.2.5 | B15: KKS | C15: kompl | D15: 1 | F15: =ROUND($D15*E15,2) -> 0
A16: 1.3 | B16: Postavitev in zavarovanje prečnih profilov | C16: kos | D16: 25 | F16: =ROUND($D16*E16,2) -> 0
A17: 1.4 | B17: Zarezanje asfalta | C17: m¹ | D17: 75 | F17: =ROUND($D17*E17,2) -> 0
A18: 1.5. | B18: Rušenje asfaltnega vozišča v debelini do 10 cm z odvozom na deponijo po izbiri izvajalca s stroški deponiranja | C18: m² | D18: 100 | F18: =ROUND($D18*E18,2) -> 0
A19: 1.6 | B19: Rušenje makadamskega vozišča v debelini do 20 cm, odvoz na začasno deponijo po izbiri izvajalca | C19: m¹ | D19: 160 | F19: =ROUND($D19*E19,2) -> 0
A20: 1.7 | B20: Rušenje tlakovanega vozišča v debelini do 10 cm z odvozom na deponijo po izbiri izvajalca s stroški deponiranja | C20: m² | D20: 160 | F20: =ROUND($D20*E20,2) -> 0
A21: 1.8 | B21: Rušenje in odstranitev AB robnikov in vseh robnih obrob, z odvozom na deponijo po izbiri izvajalca s stroški deponiranja | C21: m¹ | D21: 60 | F21: =ROUND($D21*E21,2) -> 0
A22: 1.9 | B22: Posek in odstranitev grmovja in dreves z debli premera do 15 cm ter odstranitev vej | C22: m² | D22: 5800 | F22: =ROUND($D22*E22,2) -> 0
... A24: 1.11 | B24: Zavarovanje in popolna zapora gradbišča v času gradnje | C24: kos | D24: 1 | F24: =ROUND($D24*E24,2) -> 0
B25: SKUPAJ | F25: =SUM(F9:F24) -> 0
A28: 2.0 | B28: ZEMELJSKA DELA
A30: 2.1 | B30: Široki izkop humusa z nakladanjem in odvozom na začasno deponijo po izbiri izvajalca | C30: m³ | D30: 260 | F30: =ROUND($D30*E30,2) -> 0
A31: 2.2 | B31: Široki izkop zemljine lll. ktg ( 80 %) in lV. ktg (20 %) z nakladanjem in odvozom na začasno deponijo, po izbiri izvajalca | C31: m³ | D31: 7680 | F31: =ROUND($D31*E31,2) -> 0
A32: 2.3 | B32: Izvedba nasipa iz izkopanega materiala z utrjevanjem po plasteh minimalno 30 cm (na planumu nasipa mora biti Me ≥ 80 Mpa) - | C32: m³ | D32: 5940 | F32: =ROUND($D32*E32,2) -> 0
A33: 2.4 | B33: Planiranje planuma spodnjega ustroja z 10% ročnim in 90% strojnim utrjevanjem s točnostjo ±1.5 cm | C33: m² | D33: 5290 | F33: =ROUND($D33*E33,2) -> 0
A34: 2.5 | B34: Dobava in polaganje geosintetika pred vgradnjo nasipa in kamnite grede | C34: m² | D34: 8140 | F34: =ROUND($D34*E34,2) -> 0
A35: 2.6 | B35: Humusiranje in zatravitev brežin brez valjanja v debelini 15 cm z dovozom humusa iz začasne deponije, po izbiri izvajalca | C35: m² | D35: 1780 | F35: =ROUND($D35*E35,2) -> 0
A36: 2.7 | B36: Humusiranje in zatravitev brežin brez valjanja v debelini 15 cm, z dobavo in dovozom humusa | C36: m² | D36: 1520 | F36: =ROUND($D36*E36,2) -> 0
A37: 2.8 | B37: Humusiranje in zatravitev zelenic, z valjanjem v debelini 15 cm z dobavo humusa | C37: m² | D37: 200 | F37: =ROUND($D37*E37,2) -> 0
A38: 2.9 | B38: Zaščita pete nasipa s kamnom v betonu. Dimenzija pete 200x 40/70 cm. Podložni beton C 12/15, debelina betona 20 cm. Stiki zastičeni s cementno malto. | C38: m³ | D38: 170 | F38: =ROUND($D38*E38,2) -> 0
A39: 2.10 | B39: Nakladanje in odvoz materiala iz začasne deponije po izbiri izvajalca v nasip | C39: m³ | D39: 5940 | F39: =ROUND($D39*E39,2) -> 0
A40: 2.11 | B40: Nakladanje in odvoz odvečnega materiala s kamioni in odvoz na deponijo po izbiri izvajalca s stroši deponiranja in razprostiranjem na deponiji | C40: m³ | D40: 1740 | F40: =ROUND($D40*E40,2) -> 0
B41: SKUPAJ | F41: =SUM(F30:F40) -> 0
A43: 3.0 | B43: VOZIŠČNE KONSTRUKCIJE
A45: 3.1 | B45: Izdelava posteljice iz kamnitega zmrzlinsko odpornega materiala v debelini povprečno 40.0 cm, kompletno z dobavo, dovozom in vgrajevanjem | C45: m³ | D45: 1740 | F45: =ROUND($D45*E45,2) -> 0
A46: 3.2 | B46: Izdelava nevezane nosilne plasti iz tamponskega drobljenca TD 0/32 pod voznimi in nepovoznimi površinami v debelini 30 cm z vsemi fazami del (dobava, dovoz, planiranje), ter utrjevanje do tlačne trdnosti Me ≥ 100 Mpa (vozne površine) oz. Me ≥ 80 Mpa (nepovozne površine) | C46: m³ | D46: 1640 | F46: =ROUND($D46*E46,2) -> 0
A47: 3.3 | B47: Dobava in polaganje bitumenskega betona AC 11 surf B 70/100, A3 v debelini 4 cm, ter bituminiziranega drobljenca AC 22 base B 50/70, A3 v debelini 7.0 cm | C47: m² | D47: 3520 | F47: =ROUND($D47*E47,2) -> 0
A48: 3.4 | B48: Dobava in polaganje bitumenskega betona v debelini 4 cm, AC 8 surf B 50/70, A5 na pločnikih | C48: m² | D48: 760 | F48: =ROUND($D48*E48,2) -> 0
A49: 3.5 | B49: Dobava in vgraditev ravnih arm.- bet. robnikov prereza 15 x 25 cm, položeni so v betonski temelj C 12/15 in zastičeni s cementno malto | C49: m¹ | D49: 930 | F49: =ROUND($D49*E49,2) -> 0
A50: 3.6 | B50: Isto kot postavka 3.5, samo dobava in vgraditev pogreznjenih armirano - betonskih robnikov | C50: m¹ | D50: 48 | F50: =ROUND($D50*E50,2) -> 0
...

Sheet kamnita zložba
A1: KAMNITA ZLOŽBA
A3: Šifra | B3: Opis dela | C3: Enota | D3: Količina | E3: Cena/E (v €) | F3: Vrednost (v €)
C4: 1 | D4: 2 | E4: 3 | F4: 4 (2x3)
A6: 1 | B6: PREDDELA
A7: 1.1 | B7: Postavitev in zavarovanje profilov za zakoličbo objekta | C7: kos | D7: 21 | F7: =ROUND($D7*E7,2) -> 0
A8: 1 | B8: PREDDELA SKUPAJ: | F8: =SUM(F7:F7) -> 0
A10: 2 | B10: ZEMELJSKA DELA
A11: 2.1 | B11: Izkop vezljive zemljine/zrnate kamnine – 3. kategorije za temelje širine nad 2 m in globine 1,1 do 2,0 m, strojno Opomba: Izkop za kamnito zložbo in drenažni sistem zložbe. Upoštevati izkop, nakladanje materiala in odvoz na deponijo po izbiri izvajalca s stroški deponiranja. | C11: m3 | D11: 718 | F11: =ROUND($D11*E11,2) -> 0
A12: 2.2 | B12: Ureditev planuma temeljnih tal vezljive zemljine – 3. kategorije | C12: m2 | D12: 136 | F12: =ROUND($D12*E12,2) -> 0
A13: 2.3 | B13: Vgraditev klina iz zrnate kamnine – 3. kategorije. Opomba: zasipni klin - nekoherentni izkopni material v zaledju zložbe, komprimiranje minimalno do 92 % po MPP. Upoštevati dobavo in vgradnjo materiala. | C13: m3 | D13: 40 | F13: =ROUND($D13*E13,2) -> 0
A14: 2.4 | B14: Zaščita brežine z roliranjem v debelini nad 30 cm. Opomba: kamnita obloga v betonu d = 50 cm na zaključkih zložbe. Upoštevati dobavo in vgradnjo materiala. | C14: m3 | D14: 4 | F14: =ROUND($D14*E14,2) -> 0
A15: 2.5 | B15: Začasno varovanje izkopne brežine-po potrebi
B16: - dobava in vgradnja brizganega betona d = 10 cm (2 x 5 cm) | C16: m2 | D16: 480 | F16: =ROUND($D16*E16,2) -> 0
B17: - dobava in vgradnja armaturne mreže B 500 B - Q 189 | C17: kg | D17: 1450 | F17: =ROUND($D17*E17,2) -> 0
B18: - pasivna sidra za zaščito brežine med gradnjo (RA fi28), dolžine 6,0 m, dobava, vrtanje, vgradnja, injekcijska masa in podložna ploščica | C18: m1 | D18: 720 | F18: =ROUND($D18*E18,2) -> 0
A20: 2 | B20: ZEMELJSKA DELA SKUPAJ: | F20: =SUM(F11:F19) -> 0
A22: 4 | B22: ODVODNJAVANJE
A23: 4.1 | B23: Tlakovanje jarka z lomljencem, debelina 10 cm, stiki zapolnjeni s cementno malto, na podložni plasti cementnega betona, debeli 10 cm Opomba: kamnita mulda na zaključku zložbe. Upoštevati dobavo in vgradnjo materiala. | C23: m2 | D23: 1.5 | F23: =ROUND($D23*E23,2) -> 0
A24: 4.2 | B24: Utrditev jarka s kanaletami na stik iz cementnega betona, dolžine 100 cm in notranje širine dna kanalete 50 cm, na podložni plasti iz cementnega betona debeline cca. 20 cm Opomba: kanaleta v kroni zložbe, do navezave na kanaleto s pobočja. Upoštevati dobavo in vgradnjo materiala. | C24: m1 | D24: 73 | F24: =ROUND($D24*E24,2) -> 0
A25: 4.3 | B25: Izdelava vzdolžne in prečne drenaže, globoke do 1,0 m, na podložni plasti iz cementnega betona, debeline 10 cm, z gibljivimi plastičnimi cevmi premera 25 cm. Opomba: DK cev premera 25 cm, ovita v ločilni geosintetik, vključno s podložnim betonom. Upoštevati dobavo in vgradnjo materiala. | C25: m1 | D25: 78 | F25: =ROUND($D25*E25,2) -> 0
A26: 4.4 | B26: Izdelava vzdolžne in prečne drenaže, globoke do 1,0 m, iz zmesi kamnitih zrn, obvite z geosintetikom, na podložni plasti iz cementnega betona Opomba: Zasip drenažne cevi med zložbo in cevnim prepustom, vključno z ločilnim geosintetikom. Upoštevati dobavo in vgradnjo materiala. | C26: m1 | D26: 8 | F26: =ROUND($D26*E26,2) -> 0
A27: 4.5 | B27: Izdelava izcednice (barbakane) iz trde plastične cevi, premera 10 cm, dolžine nad 100 cm. Opomba: Upoštevati dobavo in vgradnjo materiala, dolžina izcednic 2,0-2,2 m | C27: kos | D27: 16 | F27: =ROUND($D27*E27,2) -> 0
A28: 4.6 | B28: Izdelava kanalizacije iz cevi iz polietilena, vključno s podložno plastjo iz cementnega betona, premera 15 cm, v globini do 1,0 m Opomba: Kanalizacijska cev premera 16 cm, navezava na meteorno kanalizacijo. Upoštevati dobavo in vgradnjo materiala. | C28: m1 | D28: 8.8 | F28: =ROUND($D28*E28,2) -> 0
A29: 4.7 | B29: Izdelava kanalizacije iz cevi iz polivinilklorida, vključno s podložno plastjo iz cementnega betona, premera 15 cm, v globini do 1,0 m Opomba: PVC cev premera 16 cm, navezava na cestna požiralnika. Upoštevati dobavo in vgradnjo materiala. | C29: m | D29: 6 | F29: =ROUND($D29*E29,2) -> 0
A30: 4.8 | B30: Izdelava jaška iz polietilena, krožnega prereza s premerom 60 cm, globokega 1,0 do 1,5 m Opomba: vključno z ltž. Pokrovom tipa D, nosilnost 40 Mp. Upoštevati dobavo in vgradnjo materiala. | C30: kos | D30: 1 | F30: =ROUND($D30*E30,2) -> 0
A31: 4 | B31: ODVODNJAVANJE SKUPAJ: | F31: =SUM(F23:F30) -> 0
A33: 5 | B33: GRADBENA IN OBRTNIŠKA DELA
A34: 5.1 | B34: TESARSKA DELA
A35: 5.1.1 | B35: Izdelava premičnega odra, visokega nad 4 m | C35: m2 | D35: 40 | F35: =D35*E35 -> 0
A36: 5.1.2 | B36: Izdelava podprtega opaža za ravne temelje | C36: m2 | D36: 68 | F36: =D36*E36 -> 0
A37: 5.1.3 | B37: Izdelava podprtega opaža za raven zid, visok do 2m; Opomba: opaž zgornjega dela zložbe in krone zložbe | C37: m2 | D37: 115 | F37: =D37*E37 -> 0
A38: 5.1 | B38: TESARSKA DELA SKUPAJ: | F38: =SUM(F35:F37) -> 0
A40: 5.2 | B40: DELA Z JEKLOM ZA OJAČITEV
A41: 5.2.1 | B41: Dobava in postavitev rebrastih žic iz visokovrednega naravno trdega jekla B St 500 S s premerom do 12 mm, za srednje zahtevno ojačitev | C41: kg | D41: 1390 | F41: =ROUND($D41*E41,2) -> 0
A42: 5.2.2 | B42: Dobava in postavitev rebrastih žic iz visokovrednega naravno trdega jekla B St 500 S s premerom nad 14 mm, za srednje zahtevno ojačitev | C42: kg | D42: 292 | F42: =ROUND($D42*E42,2) -> 0
A43: 5.2 | B43: DELA Z JEKLOM ZA OJAČITEV SKUPAJ: | F43: =SUM(F41:F42) -> 0
A45: 5.3 | B45: DELA S CEMENTNIM BETONOM
A46: 5.3.1 | B46: Dobava in vgraditev podložnega cementnega betona C12/15 v prerez do 0,15 m3/m2 | C46: m3 | D46: 25 | F46: =ROUND($D46*E46,2) -> 0
A47: 5.3.2 | B47: Dobava in vgraditev ojačenega cementnega betona C25/30 v točkovne temelje ali temeljne blazine. Opomba: XC2, vodotesni beton PV-II, temelji zložbe | C47: m3 | D47: 87.2 | F47: =ROUND($D47*E47,2) -> 0
A48: 5.3.3 | B48: Dobava in vgraditev ojačenega cementnega betona C25/30 v stene podpornih ali opornih zidov Opomba: XD3, XF4, PV-II vodotesni beton, krona zložbe | C48: m3 | D48: 32 | F48: =ROUND($D48*E48,2) -> 0
...

Sheet javna razsvetljava
A1: JAVNA RAZSVETLJAVA - CESTA
A5: Šifra | B5: Opis dela | C5: Enota | D5: Količina | E5: Cena/E (v €) | F5: Vrednost (v €)
C6: 1 | D6: 2 | E6: 3 | F6: 4 (2x3)
A8: 1 | B8: ELEKTROMONTAŽNA DELA
A9: 1.1 | B9: Dobava in montaža svetilk tip SC 100 (ravno steklo) z visoko tlačno natrijevo sijalko 100 W (ali s svetliko enakovrednih svetlobnih in tehničnih karakteristik in moči sijalk- po izboru investitorja), komplet z priborom, predstikalno napravo in redukcijo | C9: kom | D9: 16 | F9: =ROUND($D9*E9,2) -> 0
A10: 1.2 | B10: Dobava in vlečenj PP OOY, 4x1,5 mm2 od PVE do priključnega dela svetilke | C10: m | D10: 144 | F10: =ROUND($D10*E10,2) -> 0
A11: 1.3 | B11: Dobava in vlečenje zemeljskega kabla v kabel.kanalizaciji, kabel PP 00-y, 5x10 mm2, 1 kV, za napajanje svetilk iz obstoječega prižigališča | C11: m | D11: 520 | F11: =ROUND($D11*E11,2) -> 0
A12: 1.4 | B12: Dobava in polaganje železnega pocinkanega valjanca 25 x 4 mm | C12: m | D12: 520 | F12: =ROUND($D12*E12,2) -> 0
A13: 1.5 | B13: Dobava in montaža drobnega montažnega materiala | C13: komplet | D13: 1 | F13: =ROUND($D13*E13,2) -> 0
A14: 1.6 | B14: Dobava in montaža priključne plošče v kandelabru tip PVE-5/16-1, za varovalnimi elementi 6,3 A montiranih v kandelabru | C14: kos | D14: 16 | F14: =ROUND($D14*E14,2) -> 0
A15: 1.7 | B15: Izdelava geodetskega posnetka in projekta izvedenih del (PID) v 3 tiskanih izvodih in 1 na cd nosilcu v skladu z ZGO | C15: komplet | D15: 1 | F15: =ROUND($D15*E15,2) -> 0
A16: 1 | B16: ELEKTROMONTAŽNA DELA SKUPAJ | F16: =SUM(F9:F15) -> 0
A19: 2 | B19: GRADBENA DELA
A20: 2.1 | B20: Izkop jarka (pred.v III-IV ktg.) in izdelava kabelske kanalizacije 1 x Stigmaflex cev fi 110 mm v zemljini— IV ktg.(ali 1x cevi enakovrednih tehničnih karakteristik in enakim fi)- po načrtu | C20: m | D20: 520 | F20: =ROUND($D20*E20,2) -> 0
A21: 2.2 | B21: Izkop in montaža temelja z jaškom (npr. kot tip Vigred) | C21: kom | D21: 16 | F21: =ROUND($D21*E21,2) -> 0
A22: 2.3 | B22: Dobava in montaža vroče cinkanega kandelabra višine 9 m | C22: kom | D22: 16 | F22: =ROUND($D22*E22,2) -> 0
A23: 2 | B23: GRADBENA DELA SKUPAJ | F23: =SUM(F20:F22) -> 0
A27: REKAPITULACIJA
B30: ELEKTROMONTAŽNA DELA | F30: =+F16 -> 0
B31: GRADBENA DELA | F31: =+F23 -> 0
B33: SKUPAJ | F33: =SUM(F30:F31) -> 0

Sheet Skrajšanje tirov
A1: SKRAJŠANJE TIROV NA POSTAJI VINTGAR
A4: Šifra | B4: Opis dela | C4: Enota | D4: Količina | E4: Cena/E (v €) | F4: Vrednost (v €)
C5: 1 | D5: 2 | E5: 3 | F5: 4 (2x3)
A7: I. | B7: Pripravljalna in ostala dela
A9: 1. | B9: Zakoličevanje obstoječih tirov z zavarovanjem | C9: komp | D9: 1 | F9: =ROUND($D9*E9,2) -> 0
A10: 2. | B10: Zakoličevanje obstoječih SVTK kalov na območju cele gradbišča z zavarovanjem | C10: komp | D10: 1 | F10: =ROUND($D10*E10,2) -> 0
A11: 3. | B11: Posek grmovja ter čiščenje terena z odvozom materiala v stalno deponijo po izbiri izvajalca s stroški deponiranja -ocena površine | C11: m2 | D11: 660 | F11: =ROUND($D11*E11,2) -> 0
A12: 4. | B12: Strokovni nadzor pri izvajanju del na progi s strani SŽ - služba za EE in SVTK | C12: komp | D12: 1 | F12: =ROUND($D12*E12,2) -> 0
A13: 5. | B13: Izdelava geodetskega posnetka in projekta izvedenih del (PID) v 3 tiskanih izvodih in 1 na cd nosilcu v skladu z ZGO | C13: komp | D13: 1 | F13: =ROUND($D13*E13,2) -> 0
B14: Skupaj I. | F14: =SUM(F9:F13) -> 0
A16: II. | B16: Skrajšanje tirov
A18: 1. | B18: Rezanje tirnic | C18: kom | D18: 8 | F18: =ROUND($D18*E18,2) -> 0
A19: 2. | B19: Kompletna odstranitev tira 49E1 na lesenih pragih z odvozom materiala v deponijio na oddaljenosti do 1,0 km ob progi za prevzem materiala s strani SŽ | C19: m1 | D19: 271 | F19: =ROUND($D19*E19,2) -> 0
A20: 3. | B20: Kompletna odstranitev kretnic z odvozom materiala v deponijo na oddaljenosti do 1,0 km ob progi za prevzem materiala s strani SŽ | C20: kos | D20: 2 | F20: =ROUND($D20*E20,2) -> 0
A21: 4. | B21: Prestavitev (odstranitev in vgraditev) obstoječega tipskega tirnega zaključka. Površine je temeljito očistiti in antikorozijsko zaščititi (2x osnovni premaz in 2x epoksidni premaz) -tiri št. 2, 3 in 4 | C21: kos | D21: 3 | F21: =ROUND($D21*E21,2) -> 0
A22: 5. | B22: Obnova - čiščenje in antikorozijska zaščita obstoječega tirnega zaključka -tir št.5 | C22: kos | D22: 1 | F22: =ROUND($D22*E22,2) -> 0
A23: 6. | B23: Dobava in montaža tirničnega tirnega zaključka -tir št.6 | C23: kos | D23: 1 | F23: =ROUND($D23*E23,2) -> 0
A24: 7. | B24: Signalna oznaka 16 "vožnja prepovedana"; dobava likovnega znaka ter namestitev med odbijala tirnega zaključka (tir št.6) | C24: kos | D24: 1 | F24: =ROUND($D24*E24,2) -> 0
A25: 8. | B25: Izravnava in planiranje površin, kjer se odstranijo tiri - ocena (izven območja ceste) | C25: m2 | D25: 270 | F25: =ROUND($D25*E25,2) -> 0
B26: Skupaj II. | F26: =SUM(F18:F25) -> 0
B30: R E K A P I T U L A C I J A
A32: I. | B32: Pripravljalna dela | F32: =F14 -> 0
A34: II. | B34: Skrajšanje tirov | F34: =F26 -> 0
B36: SKUPAJ | F36: =SUM(F32:F34) -> 0

Sheet VN kabel
A1: VISOKONAPETOSTNI KABEL
A4: Šifra | B4: Opis dela | C4: Enota | D4: Količina | E4: Cena/E (v €) | F4: Vrednost (v €)
C5: 1 | D5: 2 | E5: 3 | F5: 4 (2x3)
A7: A | B7: Elektro del - material
A9: 1. | B9: Sestava in postavitev N-droga višine cca 10 m v betonskih kleščah Rz 2000, komplet z montažo mm2, 20 kV izolatorjev na konzole z vsemi gradbenimi deli v III-IV ktg.zemljišča (tipizacija EG) | C9: kos | D9: 1 | F9: =ROUND($D9*E9,2) -> 0
A10: 2. | B10: Sestava in postavitev A-droga višine cca 10 m v v betonskih kleščah Rz 2000, komplet z montažo izolatorjev na konzole z vsemi gradbenimi deli v III-IV ktg.zemljišča (tipizacija EG) | C10: kos | D10: 3 | F10: =ROUND($D10*E10,2) -> 0
A11: 3. | B11: Dobava in polaganje kabla 20 kV AXAL TT, 3x1x150 mm2 ( zemeljska dela pri gradbenih delih ) | C11: m | D11: 70 | F11: =ROUND($D11*E11,2) -> 0
A12: 4. | B12: Demontaža A-droga , komplet, vključno z betonskimi kleščami , z odvozom na deponijo in ureditvijo terena nošenjem na drog in kleščami, z odvozom na deponijo in ureditvijo terena | C12: kos | D12: 1 | F12: =ROUND($D12*E12,2) -> 0
A13: 5. | B13: Demontaža N-droga , komplet, vključno z betonskimi kleščami , z odvozom na deponijo in ureditvijo terena nošenjem na drog in kleščami, z odvozom na deponijo in ureditvijo terena | C13: kos | D13: 3 | F13: =ROUND($D13*E13,2) -> 0
A14: 6. | B14: Demontaža tokovodnika Al-Fe do 70 mm2 (odvezovanje, spuščanje in povijanje vodnika v kolobar) in odvoz na skladišče EG in po postavitvi drogov ponovno napenjanje in obešanje | C14: m | D14: 140 | F14: =ROUND($D14*E14,2) -> 0
A15: 7. | B15: Nadzor s s strani upravljalca in zaščita obstoječih elektroenergetskih vodov komplet | C15: kos | D15: 1 | F15: =ROUND($D15*E15,2) -> 0
B16: SKUPAJ | F16: =SUM(F9:F15) -> 0
A18: B | B18: Gradbena dela
A20: 1. | B20: Izkop jarka širine 40 cm, globine 100 cm, v terenu III in IV ktg, niveliranje dna jarka, dobava in vgrajevanje podložnega betona, dobava in polaganje 4xStigmafleks cevi fi 160 mm, z obbetoniranjem, zasip jarka s komprimiranjem v plasteh s čišenjem, planiranjem in urejanjem terena. | C20: m | D20: 550 | F20: =ROUND($D20*E20,2) -> 0
A21: 2. | B21: Izkop jarka širine 40 cm, globine 100 cm, v terenu III in IV ktg, niveliranje dna jarka, dobava in vgrajevanje zasip jarka s komprimiranjem v plasteh s čišenjem, planiranjem in urejanjem terena. | C21: m | D21: 70 | F21: =ROUND($D21*E21,2) -> 0
A22: 3. | B22: Izdelava jaška dimenzij 1,5x1,5x1,8 m z Ltž pokrovom 60x60 cm - po priloženem načrtu dolžine 1m, zasip postavljenega kandelabra z drobnim peskom in zalitje podloge (10cm), ter zgornjega dela (10cm) z betonom. | C22: kos | D22: 8 | F22: =ROUND($D22*E22,2) -> 0
A23: 4. | B23: Dobava in polaganje pocikanega valjanca 25 x 4 mm | C23: m | D23: 620 | F23: =ROUND($D23*E23,2) -> 0
A24: 5. | B24: Izdelava geodetskega posnetka in projekta izvedenih del (PID) v 3 tiskanih izvodih in 1 na cd nosilcu v skladu z ZGO | C24: kos | D24: 1 | F24: =ROUND($D24*E24,2) -> 0
B25: SKUPAJ | F25: =SUM(F20:F24) -> 0
B30: R E K A P I T U L A C I J A
A32: A | B32: ELEKTROMONTAŽNA DELA | F32: =F16 -> 0
A33: B | B33: GRADBENA DELA | F33: =F25 -> 0
B34: SKUPAJ | F34: =SUM(F32:F33) -> 0

Sheet JR križišče
B1: JAVNA RAZSVETLJAVA - KRIŽIŠČE
A3: Šifra | B3: Opis dela | C3: Enota | D3: Količina | E3: Cena/E (v €) | F3: Vrednost (v €)
C4: 1 | D4: 2 | E4: 3 | F4: 4 (2x3)
A6: A | B6: Elektro del - material
A8: 1. | B8: Dobava in polaganje kabla tip PP 00-y, 5x10 mm2 1kV, v cevi kabelske kanalizacije in v uvodnice kandelabrov s priklopi v kandelabrih | C8: m | D8: 38 | F8: =ROUND($D8*E8,2) -> 0
A9: 2. | B9: Dobava in vlečenje kabla tip PP00Y, 4x1,5 mm2 od PVE do priključnega dela svetilke | C9: m | D9: 20 | F9: =ROUND($D9*E9,2) -> 0
A10: 3. | B10: Dobava in polaganje pocikanega valjanca 25 x 4 mm | C10: m | D10: 78 | F10: =ROUND($D10*E10,2) -> 0
A11: 4. | B11: Dobava in montaža priključne plošče v kandelabru tip PVE-5/16-1, z varovalnim elementom 6,3A montirana v kandelabru | C11: kos | D11: 2 | F11: =ROUND($D11*E11,2) -> 0
A12: 5. | B12: Zakoličba vseh obstoječih komunalnih naprav | C12: kos | D12: 1 | F12: =ROUND($D12*E12,2) -> 0
A13: 6. | B13: Dobava in montaža kandelabra H=9 m (nad terenom) | C13: kos | D13: 2 | F13: =ROUND($D13*E13,2) -> 0
A14: 7. | B14: Izdelava svetlobnotehničnih meritev | C14: kos | D14: 1 | F14: =ROUND($D14*E14,2) -> 0
B15: SKUPAJ | F15: =SUM(F8:F14) -> 0
B16: Opomba: Za novo razsvetljavo se uporabijo obstoječe svetilke-kom 2
A18: B | B18: Gradbena dela
A20: 1. | B20: Izkop jarka širine 40 cm, globine 100 cm, v terenu III in IV ktg, niveliranje dna jarka, dobava in vgrajevanje podložnega betona, dobava in polaganje 1xStigmafleks cevi fi 110 mm, z obbetoniranjem, zasip jarka s komprimiranjem v plasteh s čišenjem, planiranjem in urejanjem terena. | C20: m | D20: 78 | F20: =ROUND($D20*E20,2) -> 0
A21: 2. | B21: Izkop in montaža montažnega temelja z jaškom (npr. kot tip Vigred) v terenu III in IV ktg, | C21: m | D21: 2 | F21: =ROUND($D21*E21,2) -> 0
A22: 3. | B22: Izdelava geodetskega posnetka in projekta izvedenih del (PID) v 3 tiskanih izvodih in 1 na cd nosilcu v skladu z ZGO | C22: kos | D22: 1 | F22: =ROUND($D22*E22,2) -> 0
B23: SKUPAJ | F23: =SUM(F20:F22) -> 0
B26: R E K A P I T U L A C I J A
B29: ELEKTROMONTAŽNA DELA | F29: =F15 -> 0
B30: GRADBENA DELA | F30: =F23 -> 0
B31: SKUPAJ JAVNA RAZSVETLJAVA | F31: =SUM(F29:F30) -> 0

Sheet obnova križišča
B1: OBNOVA KRIŽIŠČA NA DRŽAVNI CESTI JAVORNIK - GORJE
A4: Šifra | B4: Opis dela | C4: Enota | D4: Količina | E4: Cena/E (v €) | F4: Vrednost (v €)
C5: 1 | D5: 2 | E5: 3 | F5: 4 (2x3)
A7: 1.0 | B7: PREDDELA
A9: 1.1 | B9: Zakoličba projektiranih osi in zavarovanje | C9: m¹ | D9: 40 | F9: =ROUND($D9*E9,2) -> 0
A10: 1.2 | B10: Postavitev in zavarovanje prečnih profilov | C10: kos | D10: 4 | F10: =ROUND($D10*E10,2) -> 0
A11: 1.3 | B11: Zakoličba obstoječih komunalnih vodov (cestna razsvetljava ob državni cesti) | C11: ocena | D11: 1 | F11: =ROUND($D11*E11,2) -> 0
A12: 1.4 | B12: Zarezanje asfalta | C12: m¹ | D12: 82 | F12: =ROUND($D12*E12,2) -> 0
A13: 1.5 | B13: Porušitev in odstranitev asfaltne plasti v debelini do 10 cm, z odvozom na deponijo po izbiri izvajalca s stroški deponiranja | C13: m² | D13: 520 | F13: =ROUND($D13*E13,2) -> 0
A14: 1.6 | B14: Porušitev in odstranitev AB robnikov, z odvozom na deponijo po izbiri izvajalca s stroški deponiranja | C14: m¹ | D14: 105 | F14: =ROUND($D14*E14,2) -> 0
A15: 1.7 | B15: Porušitev in odstranitev armirano - betonske robne lamele, z odvozom na deponijo po izbiri izvajalca s stroški deponiranja | C15: m¹ | D15: 48 | F15: =ROUND($D15*E15,2) -> 0
A16: 1.8 | B16: Demontaža prometnih znakov z odvozom na začasno deponijo po izbiri izvajalca, dopolnitev napisa in ponovna postavitev - tabla za razvrščanje vozil lll - 85.1 | C16: kos | D16: 1 | F16: =ROUND($D16*E16,2) -> 0
A17: 1.9 | B17: Demontaža in odstranitev prometnih znakov, velikost do 0.4 m ² z odvozom na deponijo po izbiri izvajalca s stroški deponiranja - STOP znak | C17: kos | D17: 1 | F17: =ROUND($D17*E17,2) -> 0
A18: 1.10 | B18: Demontaža in odstranitev prometnih znakov, velikost do 4.0 m ² z odvozom na deponijo po izbiri izvajalca s stroški deponiranja - table za razvrščanje vozil lll - 85.1, predkrižiščne table lll-84 in kažipotne table lll-87 | C18: kos | D18: 4 | F18: =ROUND($D18*E18,2) -> 0
A19: 1.11 | B19: Zavarovanje gradbišča v času gradnje s polovično zaporo ceste in usmerjanje prometa s semaforjem | C19: kos | D19: 1 | F19: =ROUND($D19*E19,2) -> 0
B20: SKUPAJ | F20: =SUM(F9:F19) -> 0
A23: 2.0 | B23: ZEMELJSKA DELA
B25: Vsa zemeljska dela in transporti izkopanih materialov se obračunavajo po prostornini zemljine v raščenem stanju
A26: 2.1 | B26: Široki izkop zemljine lll. ktg z nakladanjem na kamion, odvoz na deponijo po izbiri izvajalca s stroški deponiranaja in razprostiranjem na deponiji | C26: m³ | D26: 540 | F26: =ROUND($D26*E26,2) -> 0
A27: 2.2 | B27: Planiranje planuma spodjega ustroja z 10 % ročnim in 90 % strojnim utrjevanjem s točnostjo ± 1,5 cm | C27: m² | D27: 740 | F27: =ROUND($D27*E27,2) -> 0
A28: 2.3 | B28: Humusiranje in zatravitev brežin in zelenic brez valjanja v debelini 15 cm z dobavo in dovozom manjkajočega humusa | C28: m² | D28: 200 | F28: =ROUND($D28*E28,2) -> 0
B29: SKUPAJ | F29: =SUM(F26:F28) -> 0
A32: 3.0 | B32: VOZIŠČNE KONSTRUKCIJE
A34: 3.1 | B34: Izdelava posteljice iz kamnitega zmrzlinsko odpornega materiala v debelini povprečno 40.0 cm, kompletno z dobavo, dovozom in vgrajevanjem | C34: m³ | D34: 260 | F34: =ROUND($D34*E34,2) -> 0
A35: 3.2 | B35: Izdelava nevezane nosilne plasti iz tamponskega drobljenca TD 0/32 pod voznimi in nepovoznimi površinami v debelini 30 cm z vsemi fazami del (dobava, dovoz, planiranje), ter utrjevanje do tlačne trdnosti Me ≥ 100 Mpa ( vozne površine ) oz.Me ≥ 80 Mpa (nepovozne površine) | C35: m³ | D35: 230 | F35: =ROUND($D35*E35,2) -> 0
A36: 3.3 | B36: Dobava in polaganje bitumenskega betona AC 11 surf B 70/100, A3 v debelini 4 cm, ter bituminiziranega drobljenca AC 22 base B 50/70, A3 v debelini 7.0 cm | C36: m² | D36: 540 | F36: =ROUND($D36*E36,2) -> 0
A37: 3.4 | B37: Dobava in polaganje bitumenskega betona v debelini 4 cm, AC 8 surf B 50/70, A5 na pločnikih | C37: m² | D37: 160 | F37: =ROUND($D37*E37,2) -> 0
A38: 3.5 | B38: Dobava in vgraditev ravnih arm.- bet. robnikov prereza 15 x 25 cm, položeni so v betonski temelj C 12/15 in zastičeni s cementno malto | C38: m¹ | D38: 120 | F38: =ROUND($D38*E38,2) -> 0
A39: 3.6 | B39: Isto kot postavka 3.5, samo dobava in vgraditev pogreznjenih armirano - betonskih robnikov | C39: m¹ | D39: 14 | F39: =ROUND($D39*E39,2) -> 0
A40: 3.7 | B40: Dobava in polaganje arm. - bet. robnih lamel 5/25/100. Položene so v betonski temelj C 12/15 in zastičene s cementno malto | C40: m¹ | D40: 96 | F40: =ROUND($D40*E40,2) -> 0
A41: 3.8 | B41: Dobava in polaganje betonskih tlakovcev debeline 6.0 cm na betonsko podlago iz betona C 25/30 debeline 15.0 cm, zastičene s cementno malto | C41: m² | D41: 5 | F41: =ROUND($D41*E41,2) -> 0
A42: 3.9 | B42: Zatesnitev stika nove in stare asfaltne plasti ─ premaz z vročim bitumnom BIT 200 ─ zatesnitev stika z bitumenskim taljivim trakom | C42: m¹ | D42: 82 | F42: =ROUND($D42*E42,2) -> 0
B43: SKUPAJ | F43: =SUM(F34:F42) -> 0
A46: 4.0 | B46: ODVODNJAVANJE
A48: 4.1 | B48: Zakoličba projektiranih osi kanalov z zavarovanjem, vključno zakoličba jaškov in požiralnikov | C48: m¹ | D48: 35 | F48: =ROUND($D48*E48,2) -> 0
A49: 4.2 | B49: Izkop jarkov v zemljini III. kategorije širine dna do 1.0 m in globine do 2.0 m z nakladanjem in odvozom na deponijo po izbri izvajalca s troški deponiranja in razprostiranjem na deponiji | C49: m³ | D49: 80 | F49: =ROUND($D49*E49,2) -> 0
A50: 4.3 | B50: Dobava in vgraditev cevi iz umetnih mas, nazivnega premera DN 160, nazivna togost SN 8, vključno s peščeno posteljico debeline 10 cm, planiranjem dna in obsipom s peskom 0/10 do višine 30 cm nad temenom cevi | C50: m¹ | D50: 13 | F50: =ROUND($D50*E50,2) -> 0
A51: 4.4 | B51: Isto kot postavka 4.3., samo cevi nazivnega premera DN 250 | C51: m¹ | D51: 37 | F51: =ROUND($D51*E51,2) -> 0
A52: 4.5 | B52: Dobava in vgraditev jaškov iz umetnih mas notranjega premera Φ 80 mm, povprečne globine 2.0 m, kompletno z dodatnim izkopom, podlogo in utrjenim gramoznim zasutjem ob jašku | C52: kos | D52: 2 | F52: =ROUND($D52*E52,2) -> 0
A53: 4.6 | B53: Dobava in vgraditev pokrovov za 25 Mp razred C (250 kN), premera Φ 600 m/m iz nodularne litine z zaklepom, kompletno z nosilnim okroglim betonskim okvirjem s temeljenjem ob jašku | C53: kos | D53: 2 | F53: =ROUND($D53*E53,2) -> 0
...
