Workbook
Name Excel_BuiltIn_Print_Area: 'P313-rekapitulacija'!$A$1:$D$52
Name Excel_BuiltIn_Print_Titles: 'P313-rekapitulacija'!#REF!

Sheet P313-1.etapa
B2: Številka projekta: P-313/14
B3: Številka načrta: N-313/14-C
B6: CESTA NA KOMUNALNO DEPONIJO MALA MEŽAKLA (LC 152160)
B7: Rekonstrukcija ceste od km 3+650 do km 4+350 v dolžini 700m
B10: PZI
B15: T.3.2.1 PROJEKTANTSKI PREDRAČUN
C18: - 1. etapa (km 3+650 - km 4+050)
B33: KRANJ, OKTOBER 2014
C40: REKAPITULACIJA
B42: 1.0 | C42: PREDDELA | G42: =G100
B43: 2.0 | C43: ZEMELJSKA DELA IN TEMELJENJE | G43: =G159
B44: 3.0 | C44: VOZIŠČNE KONSTRUKCIJE | G44: =G195
B45: 4.0 | C45: ODVODNJAVANJE | G45: =G258
B46: 5.0 | C46: GRADBENA IN OBRTNIŠKA DELA | G46: =G263 -> 0
B47: 6.0 | C47: PROMETNA OPREMA | G47: =G300
B48: 7.0 | C48: STORITVE | G48: =G313
C50: VSE SKUPAJ | G50: =IF(SUM(G42:G48)=0,"",SUM(G42:G48))
A53: Zap.št. | B53: Šifra | C53: Opis del | D53: Enota | E53: Količina | F53: Cena | G53: Vrednost
B55: 1. | C55: PREDDELA
B57: 1.1 | C57: Geodetska dela
A59: 1 | B59: 11 122 | C59: Obnova in zavarovanje zakoličbe osi trase ostale javne ceste v gričevnatem terenu | D59: km | E59: 0.4 | G59: =IF(ISBLANK(E59),"",IF(ISBLANK(F59),"",E59*F59))
A61: 2 | B61: 11 222 | C61: Postavitev in zavarovanje prečnega profila ostale javne ceste v gričevnatem terenu | D61: kos | E61: 42 | G61: =IF(ISBLANK(E61),"",IF(ISBLANK(F61),"",E61*F61))
B63: 1.2 | C63: Čiščenje terena | G63: =IF(ISBLANK(E63),"",IF(ISBLANK(F63),"",E63*F63))
B65: 1.2.1 | C65: Odstranitev grmovja, dreves, vej in panjev | G65: =IF(ISBLANK(E65),"",IF(ISBLANK(F65),"",E65*F65))
A67: 3 | B67: 12 111 | C67: Odstranitev grmovja na redko porasli površini (do 50 % pokritega tlorisa) - ročno (ocena) | D67: m2 | E67: 200 | G67: =IF(ISBLANK(E67),"",IF(ISBLANK(F67),"",E67*F67))
A69: 4 | B69: 12 131 | C69: Odstranitev grmovja in dreves z debli premera do 10 cm ter vej na redko porasli površini - ročno (ocena) | D69: m2 | E69: 200 | G69: =IF(ISBLANK(E69),"",IF(ISBLANK(F69),"",E69*F69))
A71: 5 | B71: 12 151 | C71: Posek in odstranitev drevesa z deblom premera 11 do 30 cm ter odstranitev vej (ocena) | D71: kos | E71: 35 | G71: =IF(ISBLANK(E71),"",IF(ISBLANK(F71),"",E71*F71))
A73: 6 | B73: 12 152 | C73: Posek in odstranitev drevesa z deblom premera 31 do 50 cm ter odstranitev vej (ocena) | D73: kos | E73: 5 | G73: =IF(ISBLANK(E73),"",IF(ISBLANK(F73),"",E73*F73))
A75: 7 | B75: 12 163 | C75: Odstranitev panja s premerom 11 do 30 cm z odvozom na deponijo na razdaljo nad 1000 m | D75: kos | E75: 35 | G75: =IF(ISBLANK(E75),"",IF(ISBLANK(F75),"",E75*F75))
A77: 8 | B77: 12 166 | C77: Odstranitev panja s premerom 31 do 50 cm z odvozom na deponijo na razdaljo nad 1000 m | D77: kos | E77: 5 | G77: =IF(ISBLANK(E77),"",IF(ISBLANK(F77),"",E77*F77))
B79: 1.2.2 | C79: Odstranitev prometne signalizacije in opreme | G79: =IF(ISBLANK(E79),"",IF(ISBLANK(F79),"",E79*F79))
A81: 9 | B81: 12 231 | C81: Pazljiva demontaža jeklene varnostne ograje za morebitno ponovno montažo | D81: m1 | E81: 33 | G81: =IF(ISBLANK(E81),"",IF(ISBLANK(F81),"",E81*F81))
B84: 1.2.4 | C84: Porušitev in odstranitev objektov | G84: =IF(ISBLANK(E84),"",IF(ISBLANK(F84),"",E84*F84))
A86: 10 | B86: 12 432 | C86: Porušitev in odstranitev jaška z notranjo stranico/premerom 61 do 100 cm | D86: kos | E86: 1 | G86: =IF(ISBLANK(E86),"",IF(ISBLANK(F86),"",E86*F86))
A88: 11 | B88: - | C88: Odstranitev kovinskih drežnikov | D88: m1 | E88: 32 | G88: =IF(ISBLANK(E88),"",IF(ISBLANK(F88),"",E88*F88))
A90: 12 | B90: - | C90: Odstranitev betonskih temeljev obvestilne table | D90: m3 | E90: 1 | G90: =IF(ISBLANK(E90),"",IF(ISBLANK(F90),"",E90*F90))
A92: 13 | B92: - | C92: Odstranitev obstoječih betonskih kanalet | D92: m1 | E92: 93 | G92: =IF(ISBLANK(E92),"",IF(ISBLANK(F92),"",E92*F92))
B94: 1.3 | C94: Ostala preddela | G94: =IF(ISBLANK(E94),"",IF(ISBLANK(F94),"",E94*F94))
B96: 1.3.1 | C96: Omejitve prometa | G96: =IF(ISBLANK(E96),"",IF(ISBLANK(F96),"",E96*F96))
G97: =IF(ISBLANK(E97),"",IF(ISBLANK(F97),"",E97*F97))
...

Sheet P313-rekapitulacija
A2: Številka projekta: P-313/14
A3: Številka načrta: N-313/14-C
A6: CESTA NA KOMUNALNO DEPONIJO MALA MEŽAKLA (LC 152160)
A7: Rekonstrukcija ceste od km 3+650 do km 4+350 v dolžini 700m
A10: PZI
A15: T.3.2 PROJEKTANTSKI PREDRAČUN
B18: - skupna rekapitulacja
A33: KRANJ, OKTOBER 2014
B40: REKAPITULACIJA
D42: 1. etapa | E42: skupaj
A43: 1.0 | B43: PREDDELA | D43: ='P313-1.etapa'!G42 | E43: ='P313-1.etapa'!G42
A44: 2.0 | B44: ZEMELJSKA DELA IN TEMELJENJE | D44: ='P313-1.etapa'!G43 | E44: ='P313-1.etapa'!G43
A45: 3.0 | B45: VOZIŠČNE KONSTRUKCIJE | D45: ='P313-1.etapa'!G44 | E45: ='P313-1.etapa'!G44
A46: 4.0 | B46: ODVODNJAVANJE | D46: ='P313-1.etapa'!G45 | E46: ='P313-1.etapa'!G45
A47: 5.0 | B47: GRADBENA IN OBRTNIŠKA DELA | D47: ='P313-1.etapa'!G46 -> 0 | E47: ='P313-1.etapa'!G46 -> 0
A48: 6.0 | B48: PROMETNA OPREMA | D48: ='P313-1.etapa'!G47 | E48: ='P313-1.etapa'!G47
A49: 7.0 | B49: STORITVE | D49: ='P313-1.etapa'!G48 | E49: ='P313-1.etapa'!G48
B51: SKUPAJ | D51: =IF(SUM(D43:D49)=0,"",SUM(D43:D49)) | E51: =IF(SUM(E43:E49)=0,"",SUM(E43:E49))
B52: DDV 22% | D52: =D51*0.22 -> #VALUE! | E52: =E51*0.22 -> #VALUE!
B53: VSE SKUPAJ | D53: =D52+D51 -> #VALUE! | E53: =E52+E51 -> #VALUE!
