Workbook
Name Excel_BuiltIn_Print_Area: 'P313-rekapitulacija'!$A$1:$D$52
Name Excel_BuiltIn_Print_Titles: 'P313-rekapitulacija'!#REF!

Sheet P313-1.etapa
B2: Številka projekta: P-313/14
B3: Številka načrta: N-313/14-C
B6: CESTA NA KOMUNALNO DEPONIJO MALA MEŽAKLA (LC 152160)
B7: Rekonstrukcija ceste od km 3+650 do km 4+350 v dolžini 700m
B10: PZI
B15: T.3.2.1 PROJEKTANTSKI PREDRAČUN
C18: - 1. etapa (km 3+650 - km 4+050)
B33: KRANJ, OKTOBER 2014
C40: REKAPITULACIJA
B42: 1.0 | C42: PREDDELA | G42: =G100
B43: 2.0 | C43: ZEMELJSKA DELA IN TEMELJENJE | G43: =G159
B44: 3.0 | C44: VOZIŠČNE KONSTRUKCIJE | G44: =G195
B45: 4.0 | C45: ODVODNJAVANJE | G45: =G258
B46: 5.0 | C46: GRADBENA IN OBRTNIŠKA DELA | G46: =G263 -> 0
B47: 6.0 | C47: PROMETNA OPREMA | G47: =G300
B48: 7.0 | C48: STORITVE | G48: =G313
C50: VSE SKUPAJ | G50: =IF(SUM(G42:G48)=0,"",SUM(G42:G48))
A53: Zap.št. | B53: Šifra | C53: Opis del | D53: Enota | E53: Količina | F53: Cena | G53: Vrednost
B55: 1. | C55: PREDDELA
B57: 1.1 | C57: Geodetska dela
A59: 1 | B59: 11 122 | C59: Obnova in zavarovanje zakoličbe osi trase ostale javne ceste v gričevnatem terenu | D59: km | E59: 0.4 | G59: =IF(ISBLANK(E59),"",IF(ISBLANK(F59),"",E59*F59))
A61: 2 | B61: 11 222 | C61: Postavitev in zavarovanje prečnega profila ostale javne ceste v gričevnatem terenu | D61: kos | E61: 42 | G61: =IF(ISBLANK(E61),"",IF(ISBLANK(F61),"",E61*F61))
B63: 1.2 | C63: Čiščenje terena | G63: =IF(ISBLANK(E63),"",IF(ISBLANK(F63),"",E63*F63))
B65: 1.2.1 | C65: Odstranitev grmovja, dreves, vej in panjev | G65: =IF(ISBLANK(E65),"",IF(ISBLANK(F65),"",E65*F65))
A67: 3 | B67: 12 111 | C67: Odstranitev grmovja na redko porasli površini (do 50 % pokritega tlorisa) - ročno (ocena) | D67: m2 | E67: 200 | G67: =IF(ISBLANK(E67),"",IF(ISBLANK(F67),"",E67*F67))
A69: 4 | B69: 12 131 | C69: Odstranitev grmovja in dreves z debli premera do 10 cm ter vej na redko porasli površini - ročno (ocena) | D69: m2 | E69: 200 | G69: =IF(ISBLANK(E69),"",IF(ISBLANK(F69),"",E69*F69))
A71: 5 | B71: 12 151 | C71: Posek in odstranitev drevesa z deblom premera 11 do 30 cm ter odstranitev vej (ocena) | D71: kos | E71: 35 | G71: =IF(ISBLANK(E71),"",IF(ISBLANK(F71),"",E71*F71))
A73: 6 | B73: 12 152 | C73: Posek in odstranitev drevesa z deblom premera 31 do 50 cm ter odstranitev vej (ocena) | D73: kos | E73: 5 | G73: =IF(ISBLANK(E73),"",IF(ISBLANK(F73),"",E73*F73))
A75: 7 | B75: 12 163 | C75: Odstranitev panja s premerom 11 do 30 cm z odvozom na deponijo na razdaljo nad 1000 m | D75: kos | E75: 35 | G75: =IF(ISBLANK(E75),"",IF(ISBLANK(F75),"",E75*F75))
A77: 8 | B77: 12 166 | C77: Odstranitev panja s premerom 31 do 50 cm z odvozom na deponijo na razdaljo nad 1000 m | D77: kos | E77: 5 | G77: =IF(ISBLANK(E77),"",IF(ISBLANK(F77),"",E77*F77))
B79: 1.2.2 | C79: Odstranitev prometne signalizacije in opreme | G79: =IF(ISBLANK(E79),"",IF(ISBLANK(F79),"",E79*F79))
A81: 9 | B81: 12 231 | C81: Pazljiva demontaža jeklene varnostne ograje za morebitno ponovno montažo | D81: m1 | E81: 33 | G81: =IF(ISBLANK(E81),"",IF(ISBLANK(F81),"",E81*F81))
B84: 1.2.4 | C84: Porušitev in odstranitev objektov | G84: =IF(ISBLANK(E84),"",IF(ISBLANK(F84),"",E84*F84))
A86: 10 | B86: 12 432 | C86: Porušitev in odstranitev jaška z notranjo stranico/premerom 61 do 100 cm | D86: kos | E86: 1 | G86: =IF(ISBLANK(E86),"",IF(ISBLANK(F86),"",E86*F86))
A88: 11 | B88: - | C88: Odstranitev kovinskih drežnikov | D88: m1 | E88: 32 | G88: =IF(ISBLANK(E88),"",IF(ISBLANK(F88),"",E88*F88))
A90: 12 | B90: - | C90: Odstranitev betonskih temeljev obvestilne table | D90: m3 | E90: 1 | G90: =IF(ISBLANK(E90),"",IF(ISBLANK(F90),"",E90*F90))
A92: 13 | B92: - | C92: Odstranitev obstoječih betonskih kanalet | D92: m1 | E92: 93 | G92: =IF(ISBLANK(E92),"",IF(ISBLANK(F92),"",E92*F92))
B94: 1.3 | C94: Ostala preddela | G94: =IF(ISBLANK(E94),"",IF(ISBLANK(F94),"",E94*F94))
B96: 1.3.1 | C96: Omejitve prometa | G96: =IF(ISBLANK(E96),"",IF(ISBLANK(F96),"",E96*F96))
G97: =IF(ISBLANK(E97),"",IF(ISBLANK(F97),"",E97*F97))
A98: 14 | B98: 13 111 | C98: Zavarovanje gradbišča v času gradnje s polovično zaporo prometa in usmerjanjem s semaforji (predviden za ves čas gradnje) | D98: kom | E98: 1 | G98: =IF(ISBLANK(E98),"",IF(ISBLANK(F98),"",E98*F98))
C100: Skupaj 1.0 | G100: =IF(SUM(G55:G99)=0,"",SUM(G55:G99))
B103: 2. | C103: ZEMELJSKA DELA IN TEMELJENJE | G103: =IF(ISBLANK(E103),"",IF(ISBLANK(F103),"",E103*F103))
B105: 2.1 | C105: Izkopi
A107: 1 | B107: 21 114 | C107: Površinski izkop plodne zemljine – 1. kategorije – strojno z nakladanjem | D107: m3 | E107: 0 | F107: 1.7 | G107: =IF(ISBLANK(E107),"",IF(ISBLANK(F107),"",E107*F107)) -> 0
A109: 1 | B109: 21 224 | C109: Široki izkop vezljive zemljine – 3. kategorije – strojno z nakladanjem (za voziščno konstrukcijo) - 50% potrebnega izkopa za voziščno konstrukcijo z odvozom na gradbiščno deponijo | D109: m3 | E109: 1500 | G109: =IF(ISBLANK(E109),"",IF(ISBLANK(F109),"",E109*F109))
A111: 2 | B111: 21 224 | C111: Široki izkop vezljive zemljine – 3. kategorije – strojno z nakladanjem (brežina) - 20% potrebnega izkopa brežine | D111: m3 | E111: 120 | G111: =IF(ISBLANK(E111),"",IF(ISBLANK(F111),"",E111*F111))
A113: 3 | B113: 21 243 | C113: Široki izkop mehke kamnine – 4. kategorije z nakladanjem (za voziščno konstrukcijo) - 50% potrebnega izkopa za voziščno konstrukcijo z odvozom na gradbiščno deponiji | D113: m3 | E113: 1500 | G113: =IF(ISBLANK(E113),"",IF(ISBLANK(F113),"",E113*F113))
A115: 4 | B115: 21 243 | C115: Široki izkop mehke kamnine – 4. kategorije z nakladanjem (brežina) - 40% potrebnega izkopa brežine | D115: m3 | E115: 240 | G115: =IF(ISBLANK(E115),"",IF(ISBLANK(F115),"",E115*F115))
A117: 5 | B117: 21 253 | C117: Široki izkop trde kamnine – 5. kategorije z nakladanjem (brežina) - 40% potrebnega izkopa brežine | D117: m3 | E117: 240 | G117: =IF(ISBLANK(E117),"",IF(ISBLANK(F117),"",E117*F117))
B120: 2.2 | C120: Planum temeljnih tal | G120: =IF(ISBLANK(E120),"",IF(ISBLANK(F120),"",E120*F120))
A122: 6 | B122: 22 113 | C122: Ureditev planuma temeljnih tal zrnate kamnine – 3. kategorije (50%) | D122: m2 | E122: 1790 | G122: =IF(ISBLANK(E122),"",IF(ISBLANK(F122),"",E122*F122))
A124: 7 | B124: 22 114 | C124: Ureditev planuma temeljnih tal mehke kamnine – 4. kategorije (50%) | D124: m2 | E124: 1790 | G124: =IF(ISBLANK(E124),"",IF(ISBLANK(F124),"",E124*F124))
B126: 2.4 | C126: Nasipi, zasipi, klini, posteljica in glinasti naboj | G126: =IF(ISBLANK(E126),"",IF(ISBLANK(F126),"",E126*F126))
A128: 8 | B128: 24 112 | C128: Vgraditev nasipa iz zrnate kamnine – 3. kategorije (izkopni material) | D128: m3 | E128: 152 | G128: =IF(ISBLANK(E128),"",IF(ISBLANK(F128),"",E128*F128))
A130: 9 | B130: 24 212 | C130: Zasip z vezljivo zemljino – 3. kategorije - strojno z utrjevnjem po plasteh (drenaže, jaški, prepusti) | D130: m3 | E130: 47 | G130: =IF(ISBLANK(E130),"",IF(ISBLANK(F130),"",E130*F130))
A132: 10 | B132: 24 476 | C132: Izdelava posteljice iz drobljenih kamnitih zrn v debelini do 50 cm (upoštevano 50% maksimalne količine) | D132: m3 | E132: 1200 | G132: =IF(ISBLANK(E132),"",IF(ISBLANK(F132),"",E132*F132))
B134: 2.5 | C134: Brežine in zelenice | G134: =IF(ISBLANK(E134),"",IF(ISBLANK(F134),"",E134*F134))
A136: 13 | B136: 25 161 | C136: Izdelava biotorkreta z nastiljem na brežinah (ocena) | D136: m2 | E136: 0 | G136: =IF(ISBLANK(E136),"",IF(ISBLANK(F136),"",E136*F136))
A138: 14 | B138: 25 218 | C138: Zaščita brežine s težko sidrano mrežo, 1 sidro/2 m2 (ocena) | D138: m2 | E138: 0 | G138: =IF(ISBLANK(E138),"",IF(ISBLANK(F138),"",E138*F138))
A140: 11 | B140: 25 112 | C140: Humuziranje brežine brez valjanja, v debelini do 15 cm - strojno (z dobavo humusa) | D140: m2 | E140: 333 | G140: =IF(ISBLANK(E140),"",IF(ISBLANK(F140),"",E140*F140))
A142: 12 | B142: 25 161 | C142: Izdelava biotorkreta z nastiljem na brežinah (ocena) | D142: m2 | E142: 200 | G142: =IF(ISBLANK(E142),"",IF(ISBLANK(F142),"",E142*F142))
A144: 13 | B144: 25 218 | C144: Zaščita brežine s težko sidrano mrežo, 1 sidro/2 m2 (ocena) | D144: m2 | E144: 200 | G144: =IF(ISBLANK(E144),"",IF(ISBLANK(F144),"",E144*F144))
A146: 14 | B146: 25 275 | C146: Zaščita brežine z lomljencem, vgrajenim v beton, po načrtu (iztoki iz prepustov) | D146: m2 | E146: 9 | G146: =IF(ISBLANK(E146),"",IF(ISBLANK(F146),"",E146*F146))
A148: 15 | B148: 25 275 | C148: Zaščita brežine z lomljencem, vgrajenim v beton, po načrtu (iztoki asfaltne mulde) | D148: m2 | E148: 6 | G148: =IF(ISBLANK(E148),"",IF(ISBLANK(F148),"",E148*F148))
A150: 17 | B150: 25 275 | C150: Zaščita brežine z lomljencem, vgrajenim v beton, (zavarovanje priključka gozdne vlake) | D150: m2 | E150: 0 | G150: =IF(ISBLANK(E150),"",IF(ISBLANK(F150),"",E150*F150))
A152: 16 | B152: - | C152: Izravnava in planiranje terena, debelina nasipa do 20 cm z izkopnim materialom | D152: m2 | E152: 488 | G152: =IF(ISBLANK(E152),"",IF(ISBLANK(F152),"",E152*F152))
B154: 2.9 | C154: Prevozi, razprostiranje in ureditev deponij materiala | G154: =IF(ISBLANK(E154),"",IF(ISBLANK(F154),"",E154*F154))
A156: 17 | B156: 29 117 | C156: Nakladanje viška izkopnega materiala na kamion z odvozom na stalno deponijo po izbiri izvajalca, razprostiranjem materiala ter plačilom takse za deponirani material ( material v raščenem stanju) | D156: m3 | E156: 3400 | G156: =IF(ISBLANK(E156),"",IF(ISBLANK(F156),"",E156*F156))
C159: Skupaj 2.0 | G159: =IF(SUM(G103:G158)=0,"",SUM(G103:G158))
B162: 3. | C162: VOZIŠČNE KONSTRUKCIJE | G162: =IF(ISBLANK(E162),"",IF(ISBLANK(F162),"",E162*F162))
B164: 3.1 | C164: Nosilne plasti
B166: 3.1.1 | C166: Nevezane nosilne plasti
A168: 1 | B168: 31 132 | C168: Izdelava nevezane nosilne plasti enakomerno zrnatega drobljenca iz kamnine v debelini 21 do 30 cm | D168: m3 | E168: 781 | G168: =IF(ISBLANK(E168),"",IF(ISBLANK(F168),"",E168*F168))
B170: 3.1.3 | C170: Vezane zgornje nosilne in nosilnoobrabne plasti z bitumenskimi vezivi | G170: =IF(ISBLANK(E170),"",IF(ISBLANK(F170),"",E170*F170))
A172: 2 | B172: 31 554 | C172: Izdelava nosilne plasti bituminizirane zmesi AC 22 base B 50/70 A3 v debelini 8 cm | D172: m2 | E172: 2333 | G172: =IF(ISBLANK(E172),"",IF(ISBLANK(F172),"",E172*F172))
A174: 3 | B174: 31 582 | C174: Izdelava nosilne plasti bituminizirane zmesi AC 22 base B 70/100 A4 v debelini 6 cm (priključki) | D174: m2 | E174: 62 | G174: =IF(ISBLANK(E174),"",IF(ISBLANK(F174),"",E174*F174))
B176: 3.2 | C176: Obrabne plasti
B178: 3.2.1 | C178: Nevezane obrabne plasti | G178: =IF(ISBLANK(E178),"",IF(ISBLANK(F178),"",E178*F178))
A180: 4 | B180: 32 111 | C180: Izdelava nevezane (mehanično stabilizirane) obrabne plasti iz zmesi zrn drobljenca v debelini do 15 cm (gozdna pot) | D180: m3 | E180: 2.3 | G180: =IF(ISBLANK(E180),"",IF(ISBLANK(F180),"",E180*F180))
B182: 3.2.2 | C182: Asfaltne obrabne in zaporne plasti – bitumenski betoni – Asphalt concrete – surface (AC surf) | G182: =IF(ISBLANK(E182),"",IF(ISBLANK(F182),"",E182*F182))
A185: 5 | B185: 32 278 | C185: Izdelava obrabne in zaporne plasti bituminizirane zmesi AC 11 surf B 70/100 A3 v debelini 4 cm | D185: m2 | E185: 2333 | G185: =IF(ISBLANK(E185),"",IF(ISBLANK(F185),"",E185*F185))
A187: 6 | B187: 32 282 | C187: Izdelava obrabne in zaporne plasti bituminizirane zmesi AC 11 surf B 70/100 A4 v debelini 3,5 cm (priključki) | D187: m2 | E187: 62 | G187: =IF(ISBLANK(E187),"",IF(ISBLANK(F187),"",E187*F187))
B189: 3.6 | C189: Bankine | G189: =IF(ISBLANK(E189),"",IF(ISBLANK(F189),"",E189*F189))
A191: 8 | B191: 36 131 | C191: Izdelava bankine iz drobljenca, široke do 0,50 m | D191: m3 | E191: 20.4 | G191: =IF(ISBLANK(E191),"",IF(ISBLANK(F191),"",E191*F191))
A193: 9 | B193: 36 133 | C193: Izdelava bankine iz drobljenca, široke 0,76 do 1,00 m | D193: m3 | E193: 27.6 | G193: =IF(ISBLANK(E193),"",IF(ISBLANK(F193),"",E193*F193))
C195: Skupaj 3.0 | G195: =IF(SUM(G162:G193)=0,"",SUM(G162:G193))
B198: 4. | C198: ODVODNJAVANJE | G198: =IF(ISBLANK(E198),"",IF(ISBLANK(F198),"",E198*F198))
B200: 4.1 | C200: Površinsko odvodnjavanje
A202: 1 | B202: 41 231 | C202: Utrditev jarka s kanaletami na stik iz cementnega betona, dolžine 100 cm in notranje širine dna kanalete 30 cm, na podložni plasti iz zmesi zrn drobljenca, debeli 10 cm | D202: m1 | E202: 7.5 | G202: =IF(ISBLANK(E202),"",IF(ISBLANK(F202),"",E202*F202))
A204: 2 | B204: 41 237 | C204: Utrditev jarka s kanaletami na stik iz cementnega betona, dolžine 100 cm in notranje širine dna kanalete 50 cm, višine 30 cm, na podložni plasti iz zmesi zrn drobljenca, debeli 10 cm | D204: m1 | E204: 95 | G204: =IF(ISBLANK(E204),"",IF(ISBLANK(F204),"",E204*F204))
A206: 3 | B206: - | C206: Izdelava asfaltne mulde ob vozišču in betonskih kanaletah, širine 50 cm in globine 6 cm (BD 8 cm + BB 4 cm) | D206: m1 | E206: 542 | G206: =IF(ISBLANK(E206),"",IF(ISBLANK(F206),"",E206*F206))
A208: 4 | B208: - | C208: Izdelava asfaltnega iztoka iz mulde na teren ali jarek in izdelava vtoka v betonske kanalete | D208: kos | E208: 8 | G208: =IF(ISBLANK(E208),"",IF(ISBLANK(F208),"",E208*F208))
A210: 5 | B210: - | C210: Izdelava jarka globine do 0,5m in širine 0,5m | D210: m1 | E210: 12 | G210: =IF(ISBLANK(E210),"",IF(ISBLANK(F210),"",E210*F210))
B212: 4.2 | C212: Globinsko odvodnjavanje - drenaže | G212: =IF(ISBLANK(E212),"",IF(ISBLANK(F212),"",E212*F212))
A214: 6 | B214: 42 163 | C214: Izdelava vzdolžne in prečne drenaže, globoke do 1,0 m, na podložni plasti iz cementnega betona, s trdimi plastičnimi cevmi premera 10 cm in filtrskim obsipom, obvitje s filcem ter izkopom (45% 3. kategorije, 45% 4. kategorije in 10% 5. kategorije) | D214: m1 | E214: 393 | G214: =IF(ISBLANK(E214),"",IF(ISBLANK(F214),"",E214*F214))
A216: 7 | B216: - | C216: Ureditev iztoka drenaže v jaške | D216: kos | E216: 5 | G216: =IF(ISBLANK(E216),"",IF(ISBLANK(F216),"",E216*F216))
B218: 4.3 | C218: Globinsko odvodnjavanje - kanalizacija | G218: =IF(ISBLANK(E218),"",IF(ISBLANK(F218),"",E218*F218))
A220: 8 | B220: 43 243 | C220: Izdelava kanalizacije iz cevi iz plastičnih mas (temenske togosti min. SN 8), vključno s podložno plastjo iz zmesi kamnitih zrn, notranjega premera 25 cm, vključno z izkopom | D220: m1 | E220: 14.5 | G220: =IF(ISBLANK(E220),"",IF(ISBLANK(F220),"",E220*F220))
A222: 9 | B222: 43 244 | C222: Izdelava kanalizacije iz cevi iz plastičnih mas (temenske togosti min. SN 8), vključno s podložno plastjo iz zmesi kamnitih zrn, notranjega premera 30 cm, vključno z izkopom | D222: m1 | E222: 40 | G222: =IF(ISBLANK(E222),"",IF(ISBLANK(F222),"",E222*F222))
...

Sheet P313-rekapitulacija
A2: Številka projekta: P-313/14
A3: Številka načrta: N-313/14-C
A6: CESTA NA KOMUNALNO DEPONIJO MALA MEŽAKLA (LC 152160)
A7: Rekonstrukcija ceste od km 3+650 do km 4+350 v dolžini 700m
A10: PZI
A15: T.3.2 PROJEKTANTSKI PREDRAČUN
B18: - skupna rekapitulacja
A33: KRANJ, OKTOBER 2014
B40: REKAPITULACIJA
D42: 1. etapa | E42: skupaj
A43: 1.0 | B43: PREDDELA | D43: ='P313-1.etapa'!G42 | E43: ='P313-1.etapa'!G42
A44: 2.0 | B44: ZEMELJSKA DELA IN TEMELJENJE | D44: ='P313-1.etapa'!G43 | E44: ='P313-1.etapa'!G43
A45: 3.0 | B45: VOZIŠČNE KONSTRUKCIJE | D45: ='P313-1.etapa'!G44 | E45: ='P313-1.etapa'!G44
A46: 4.0 | B46: ODVODNJAVANJE | D46: ='P313-1.etapa'!G45 | E46: ='P313-1.etapa'!G45
A47: 5.0 | B47: GRADBENA IN OBRTNIŠKA DELA | D47: ='P313-1.etapa'!G46 -> 0 | E47: ='P313-1.etapa'!G46 -> 0
A48: 6.0 | B48: PROMETNA OPREMA | D48: ='P313-1.etapa'!G47 | E48: ='P313-1.etapa'!G47
A49: 7.0 | B49: STORITVE | D49: ='P313-1.etapa'!G48 | E49: ='P313-1.etapa'!G48
B51: SKUPAJ | D51: =IF(SUM(D43:D49)=0,"",SUM(D43:D49)) | E51: =IF(SUM(E43:E49)=0,"",SUM(E43:E49))
B52: DDV 22% | D52: =D51*0.22 -> #VALUE! | E52: =E51*0.22 -> #VALUE!
B53: VSE SKUPAJ | D53: =D52+D51 -> #VALUE! | E53: =E52+E51 -> #VALUE!
