Workbook
Name Excel_BuiltIn_Print_Area: 'P313-rekapitulacija'!$A$1:$D$52
Name Excel_BuiltIn_Print_Titles: 'P313-rekapitulacija'!#REF!

Sheet P313-2.etapa
B2: Številka projekta: P-313/14
B3: Številka načrta: N-313/14-C
B6: CESTA NA KOMUNALNO DEPONIJO MALA MEŽAKLA (LC 152160)
B7: Rekonstrukcija ceste od km 3+650 do km 4+350 v dolžini 700m
B10: PZI
B15: T.3.2.2 PROJEKTANTSKI PREDRAČUN
C18: - 2. etapa (km 4+050 - km 4+350)
B33: KRANJ, OKTOBER 2014
C40: REKAPITULACIJA
B42: 1.0 | C42: PREDDELA | G42: =G99
B43: 2.0 | C43: ZEMELJSKA DELA IN TEMELJENJE | G43: =G152
B44: 3.0 | C44: VOZIŠČNE KONSTRUKCIJE | G44: =G183
B45: 4.0 | C45: ODVODNJAVANJE | G45: =G224
B46: 5.0 | C46: GRADBENA IN OBRTNIŠKA DELA | G46: =G235 -> 0
B47: 6.0 | C47: PROMETNA OPREMA | G47: =G270
B48: 7.0 | C48: STORITVE | G48: =G283
C50: VSE SKUPAJ | G50: =IF(SUM(G42:G48)=0,"",SUM(G42:G48))
A53: Zap.št. | B53: Šifra | C53: Opis del | D53: Enota | E53: Količina | F53: Cena | G53: Vrednost
B55: 1. | C55: PREDDELA
B57: 1.1 | C57: Geodetska dela
A59: 1 | B59: 11 122 | C59: Obnova in zavarovanje zakoličbe osi trase ostale javne ceste v gričevnatem terenu | D59: km | E59: 0.3 | G59: =IF(ISBLANK(E59),"",IF(ISBLANK(F59),"",E59*F59))
A61: 2 | B61: 11 222 | C61: Postavitev in zavarovanje prečnega profila ostale javne ceste v gričevnatem terenu | D61: kos | E61: 30 | G61: =IF(ISBLANK(E61),"",IF(ISBLANK(F61),"",E61*F61))
B63: 1.2 | C63: Čiščenje terena | G63: =IF(ISBLANK(E63),"",IF(ISBLANK(F63),"",E63*F63))
B65: 1.2.1 | C65: Odstranitev grmovja, dreves, vej in panjev | G65: =IF(ISBLANK(E65),"",IF(ISBLANK(F65),"",E65*F65))
A67: 3 | B67: 12 111 | C67: Odstranitev grmovja na redko porasli površini (do 50 % pokritega tlorisa) - ročno (ocena) | D67: m2 | E67: 100 | G67: =IF(ISBLANK(E67),"",IF(ISBLANK(F67),"",E67*F67))
A69: 4 | B69: 12 131 | C69: Odstranitev grmovja in dreves z debli premera do 10 cm ter vej na redko porasli površini - ročno (ocena) | D69: m2 | E69: 200 | G69: =IF(ISBLANK(E69),"",IF(ISBLANK(F69),"",E69*F69))
B71: 1.2.2 | C71: Odstranitev prometne signalizacije in opreme | G71: =IF(ISBLANK(E71),"",IF(ISBLANK(F71),"",E71*F71))
A73: 5 | B73: 12 211 | C73: Demontaža prometnega znaka na enem podstavku | D73: kos | E73: 2 | G73: =IF(ISBLANK(E73),"",IF(ISBLANK(F73),"",E73*F73))
B75: 1.2.3 | C75: Porušitev in odstranitev voziščnih konstrukcij | G75: =IF(ISBLANK(E75),"",IF(ISBLANK(F75),"",E75*F75))
A77: 6 | B77: 12 322 | C77: Porušitev in odstranitev asfaltne plasti v debelini 6 do 10 cm | D77: m2 | E77: 22 | G77: =IF(ISBLANK(E77),"",IF(ISBLANK(F77),"",E77*F77))
A79: 13 | B79: 12 331 | C79: Porušitev in odstranitev cementnobetonske krovne plasti v debelini do 15 cm (betonirane mulde) | D79: m3 | E79: 0 | F79: 38 | G79: =IF(ISBLANK(E79),"",IF(ISBLANK(F79),"",E79*F79)) -> 0
A81: 7 | B81: 12 382 | C81: Rezanje asfaltne plasti s talno diamantno žago, debele 6 do 10 cm | D81: m1 | E81: 14 | G81: =IF(ISBLANK(E81),"",IF(ISBLANK(F81),"",E81*F81))
B83: 1.2.4 | C83: Porušitev in odstranitev objektov | G83: =IF(ISBLANK(E83),"",IF(ISBLANK(F83),"",E83*F83))
A85: 8 | B85: - | C85: Odstranitev kovinskih drežnikov | D85: m1 | E85: 12 | G85: =IF(ISBLANK(E85),"",IF(ISBLANK(F85),"",E85*F85))
A87: 9 | B87: - | C87: Odstranitev dvokrilnih kovinskih vrat dolžine 5,5m | D87: kos | E87: 1 | G87: =IF(ISBLANK(E87),"",IF(ISBLANK(F87),"",E87*F87))
B89: 1.3 | C89: Ostala preddela | G89: =IF(ISBLANK(E89),"",IF(ISBLANK(F89),"",E89*F89))
B91: 1.3.1 | C91: Omejitve prometa | G91: =IF(ISBLANK(E91),"",IF(ISBLANK(F91),"",E91*F91))
G92: =IF(ISBLANK(E92),"",IF(ISBLANK(F92),"",E92*F92))
A93: 10 | B93: 13 111 | C93: Zavarovanje gradbišča v času gradnje s polovično zaporo prometa in usmerjanjem s semaforji (predviden za ves čas gradnje) | D93: kom | E93: 1 | G93: =IF(ISBLANK(E93),"",IF(ISBLANK(F93),"",E93*F93))
B95: 1.9 | C95: Odstranitev ograj
A97: 11 | B97: - | C97: Odstranitev pletene mrežne ograje, višine 1,8m, stebri na 2m | D97: m1 | E97: 138 | G97: =IF(ISBLANK(E97),"",IF(ISBLANK(F97),"",E97*F97))
C99: Skupaj 1.0 | G99: =IF(SUM(G55:G98)=0,"",SUM(G55:G98))
B102: 2. | C102: ZEMELJSKA DELA IN TEMELJENJE | G102: =IF(ISBLANK(E102),"",IF(ISBLANK(F102),"",E102*F102))
B104: 2.1 | C104: Izkopi
A106: 1 | B106: 21 114 | C106: Površinski izkop plodne zemljine – 1. kategorije – strojno z nakladanjem | D106: m3 | E106: 0 | F106: 1.7 | G106: =IF(ISBLANK(E106),"",IF(ISBLANK(F106),"",E106*F106)) -> 0
A108: 1 | B108: 21 224 | C108: Široki izkop vezljive zemljine – 3. kategorije – strojno z nakladanjem (za voziščno konstrukcijo) - 45% potrebnega izkopa za voziščno konstrukcijo z odvozom na gradbiščno deponijo | D108: m3 | E108: 788 | G108: =IF(ISBLANK(E108),"",IF(ISBLANK(F108),"",E108*F108))
A110: 2 | B110: 21 243 | C110: Široki izkop mehke kamnine – 4. kategorije z nakladanjem (za voziščno konstrukcijo) - 45% potrebnega izkopa za voziščno konstrukcijo z odvozom na gradbiščno deponijo | D110: m3 | E110: 788 | G110: =IF(ISBLANK(E110),"",IF(ISBLANK(F110),"",E110*F110))
A112: 3 | B112: 21 243 | C112: Široki izkop mehke kamnine – 5. kategorije z nakladanjem (za voziščno konstrukcijo) - 10% potrebnega izkopa za voziščno konstrukcijo z odvozom na gradbiščno deponijo | D112: m3 | E112: 170 | G112: =IF(ISBLANK(E112),"",IF(ISBLANK(F112),"",E112*F112))
B114: 2.2 | C114: Planum temeljnih tal | G114: =IF(ISBLANK(E114),"",IF(ISBLANK(F114),"",E114*F114))
A116: 4 | B116: 22 113 | C116: Ureditev planuma temeljnih tal zrnate kamnine – 3. kategorije (50%) | D116: m2 | E116: 1461 | G116: =IF(ISBLANK(E116),"",IF(ISBLANK(F116),"",E116*F116))
A118: 5 | B118: 22 114 | C118: Ureditev planuma temeljnih tal mehke kamnine – 4 in V kategorije (50%) | D118: m2 | E118: 1461 | G118: =IF(ISBLANK(E118),"",IF(ISBLANK(F118),"",E118*F118))
B120: 2.4 | C120: Nasipi, zasipi, klini, posteljica in glinasti naboj | G120: =IF(ISBLANK(E120),"",IF(ISBLANK(F120),"",E120*F120))
A122: 6 | B122: 24 112 | C122: Vgraditev nasipa iz zrnate kamnine – 3. kategorije (izkopni material) | D122: m3 | E122: 194 | G122: =IF(ISBLANK(E122),"",IF(ISBLANK(F122),"",E122*F122))
A124: 7 | B124: 24 212 | C124: Zasip z vezljivo zemljino – 3. kategorije - strojno z utrjevnjem po plasteh (drenaže, jaški, prepusti) | D124: m3 | E124: 27 | G124: =IF(ISBLANK(E124),"",IF(ISBLANK(F124),"",E124*F124))
A126: 8 | B126: 24 476 | C126: Izdelava posteljice iz drobljenih kamnitih zrn v debelini do 50 cm | D126: m3 | E126: 1000 | G126: =IF(ISBLANK(E126),"",IF(ISBLANK(F126),"",E126*F126))
B128: 2.5 | C128: Brežine in zelenice | G128: =IF(ISBLANK(E128),"",IF(ISBLANK(F128),"",E128*F128))
A130: 13 | B130: 25 161 | C130: Izdelava biotorkreta z nastiljem na brežinah (ocena) | D130: m2 | E130: 0 | F130: 3 | G130: =IF(ISBLANK(E130),"",IF(ISBLANK(F130),"",E130*F130)) -> 0
A132: 14 | B132: 25 218 | C132: Zaščita brežine s težko sidrano mrežo, 1 sidro/2 m2 (ocena) | D132: m2 | E132: 0 | F132: 2.8 | G132: =IF(ISBLANK(E132),"",IF(ISBLANK(F132),"",E132*F132)) -> 0
A134: 9 | B134: 25 112 | C134: Humuziranje brežine brez valjanja, v debelini do 15 cm - strojno (50% humusa iz obstoječih izkopov, 50% humusa se pripelje) | D134: m2 | E134: 381 | G134: =IF(ISBLANK(E134),"",IF(ISBLANK(F134),"",E134*F134))
A136: 10 | B136: 25 161 | C136: Izdelava biotorkreta z nastiljem na brežinah (ocena) | D136: m2 | E136: 200 | G136: =IF(ISBLANK(E136),"",IF(ISBLANK(F136),"",E136*F136))
A138: 11 | B138: 25 218 | C138: Zaščita brežine s težko sidrano mrežo, 1 sidro/2 m2 (ocena) | D138: m2 | E138: 200 | G138: =IF(ISBLANK(E138),"",IF(ISBLANK(F138),"",E138*F138))
A140: 12 | B140: - | C140: Zaščita brežine s težko sidrano mrežo, 1 sidro/2 m2 (ocena) - popravilo obstoječe zaščite | D140: m2 | E140: 650 | G140: =IF(ISBLANK(E140),"",IF(ISBLANK(F140),"",E140*F140))
A142: 17 | B142: 25 275 | C142: Zaščita brežine z lomljencem, vgrajenim v beton, (zavarovanje priključka gozdne vlake) | D142: m2 | E142: 0 | G142: =IF(ISBLANK(E142),"",IF(ISBLANK(F142),"",E142*F142))
A144: 13 | B144: - | C144: Izravnava in planiranje terena, debelina nasipa do 20 cm z izkopnim materialom | D144: m2 | E144: 100 | G144: =IF(ISBLANK(E144),"",IF(ISBLANK(F144),"",E144*F144))
B146: 2.9 | C146: Prevozi, razprostiranje in ureditev deponij materiala | G146: =IF(ISBLANK(E146),"",IF(ISBLANK(F146),"",E146*F146))
A148: 14 | C148: Nakladanje viška izkopnega materiala na kamion z odvozom na stalno deponijo po izbiri izvajalca, razprostiranjem materiala ter plačilom takse za deponirani material.( material v raščenem stanju) | D148: m3 | E148: 1520 | G148: =E148*F148 -> 0
A150: 15 | B150: 29 153 | C150: Odlaganje odpadnega asfalta na komunalno deponijo | D150: t | E150: =E77*0.1*1.8 -> 3.96 | G150: =IF(ISBLANK(E150),"",IF(ISBLANK(F150),"",E150*F150))
C152: Skupaj 2.0 | G152: =IF(SUM(G102:G151)=0,"",SUM(G102:G151))
B155: 3. | C155: VOZIŠČNE KONSTRUKCIJE | G155: =IF(ISBLANK(E155),"",IF(ISBLANK(F155),"",E155*F155))
B157: 3.1 | C157: Nosilne plasti
B159: 3.1.1 | C159: Nevezane nosilne plasti
A161: 1 | B161: 31 132 | C161: Izdelava nevezane nosilne plasti enakomerno zrnatega drobljenca iz kamnine v debelini 21 do 30 cm | D161: m3 | E161: 642 | G161: =IF(ISBLANK(E161),"",IF(ISBLANK(F161),"",E161*F161))
B163: 3.1.3 | C163: Vezane zgornje nosilne in nosilnoobrabne plasti z bitumenskimi vezivi | G163: =IF(ISBLANK(E163),"",IF(ISBLANK(F163),"",E163*F163))
A165: 2 | B165: 31 554 | C165: Izdelava nosilne plasti bituminizirane zmesi AC 22 base B 50/70 A3 v debelini 8 cm | D165: m2 | E165: 1974 | G165: =IF(ISBLANK(E165),"",IF(ISBLANK(F165),"",E165*F165))
A167: 3 | B167: 31 582 | C167: Izdelava nosilne plasti bituminizirane zmesi AC 22 base B 70/100 A4 v debelini 6 cm (priključki) | D167: m2 | E167: 163 | G167: =IF(ISBLANK(E167),"",IF(ISBLANK(F167),"",E167*F167))
B169: 3.2 | C169: Obrabne plasti
B171: 3.2.2 | C171: Asfaltne obrabne in zaporne plasti – bitumenski betoni – Asphalt concrete – surface (AC surf) | G171: =IF(ISBLANK(E171),"",IF(ISBLANK(F171),"",E171*F171))
A173: 4 | B173: 32 278 | C173: Izdelava obrabne in zaporne plasti bituminizirane zmesi AC 11 surf B 70/100 A3 v debelini 4 cm | D173: m2 | E173: 1974 | G173: =IF(ISBLANK(E173),"",IF(ISBLANK(F173),"",E173*F173))
A175: 5 | B175: 32 282 | C175: Izdelava obrabne in zaporne plasti bituminizirane zmesi AC 11 surf B 70/100 A4 v debelini 3,5 cm (priključki) | D175: m2 | E175: 163 | G175: =IF(ISBLANK(E175),"",IF(ISBLANK(F175),"",E175*F175))
B177: 3.6 | C177: Bankine | G177: =IF(ISBLANK(E177),"",IF(ISBLANK(F177),"",E177*F177))
A179: 6 | B179: 36 131 | C179: Izdelava bankine iz drobljenca, široke do 0,50 m | D179: m3 | E179: 1.6 | G179: =IF(ISBLANK(E179),"",IF(ISBLANK(F179),"",E179*F179))
A181: 7 | B181: 36 133 | C181: Izdelava bankine iz drobljenca, široke 0,76 do 1,00 m | D181: m3 | E181: 27.4 | G181: =IF(ISBLANK(E181),"",IF(ISBLANK(F181),"",E181*F181))
C183: Skupaj 3.0 | G183: =IF(SUM(G155:G181)=0,"",SUM(G155:G181))
B186: 4. | C186: ODVODNJAVANJE | G186: =IF(ISBLANK(E186),"",IF(ISBLANK(F186),"",E186*F186))
B188: 4.1 | C188: Površinsko odvodnjavanje
A190: 1 | B190: 41 237 | C190: Utrditev jarka s kanaletami na stik iz cementnega betona, dolžine 100 cm in notranje širine dna kanalete 50 cm, na podložni plasti iz zmesi zrn drobljenca, debeli 10 cm - zamenjava poškodovanih kanalet | D190: m1 | E190: 26 | G190: =IF(ISBLANK(E190),"",IF(ISBLANK(F190),"",E190*F190))
A192: 2 | B192: - | C192: Izdelava asfaltne mulde ob vozišču in obstoječih betonskih kanaletah, širine 50cm in globine 6cm (BD 8cm + BB 4cm) | D192: m1 | E192: 290 | G192: =IF(ISBLANK(E192),"",IF(ISBLANK(F192),"",E192*F192))
A194: 3 | B194: - | C194: Izdelava asfaltnega iztoka iz mulde v betonsko kanaleto ali na teren v dolžini 0,5 do1 m | D194: kos | E194: 6 | G194: =IF(ISBLANK(E194),"",IF(ISBLANK(F194),"",E194*F194))
B196: 4.2 | C196: Globinsko odvodnjavanje - drenaže | G196: =IF(ISBLANK(E196),"",IF(ISBLANK(F196),"",E196*F196))
A198: 4 | B198: 42 163 | C198: Izdelava vzdolžne in prečne drenaže, globoke do 1,0 m, na podložni plasti iz cementnega betona, s trdimi plastičnimi cevmi premera 10 cm in filtrskim obsipom, obvitje s filcem ter izkopom (45% 3. kategorije, 45% 4. kategorije in 10% 5. kategorije) | D198: m1 | E198: 302 | G198: =IF(ISBLANK(E198),"",IF(ISBLANK(F198),"",E198*F198))
A200: 5 | B200: - | C200: Ureditev iztoka drenaže v jaške | D200: kos | E200: 1 | G200: =IF(ISBLANK(E200),"",IF(ISBLANK(F200),"",E200*F200))
B202: 4.3 | C202: Globinsko odvodnjavanje - kanalizacija | G202: =IF(ISBLANK(E202),"",IF(ISBLANK(F202),"",E202*F202))
A204: 6 | B204: 43 241 | C204: Izdelava kanalizacije iz cevi iz plastičnih mas (temenske togosti min. SN 8), vključno s podložno plastjo iz zmesi kamnitih zrn, notranjega premera 15 cm - iz cestnih požiralnikov do jaškov meteornih kanalov, vključno z izkopom | D204: m1 | E204: 2 | G204: =IF(ISBLANK(E204),"",IF(ISBLANK(F204),"",E204*F204))
A206: 7 | B206: 43 271 | C206: Obbetoniranje cevi za kanalizacijo s cementnim betonom C 8/10, po detajlu iz načrta, premera 15 cm | D206: m1 | E206: 2 | G206: =IF(ISBLANK(E206),"",IF(ISBLANK(F206),"",E206*F206))
A208: 8 | B208: 43 273 | C208: Obbetoniranje cevi za kanalizacijo s cementnim betonom C 8/10, po detajlu iz načrta, premera 25 cm - dodatno obbetoniranje obstojče cevi pod voziščem | D208: m1 | E208: 10 | G208: =IF(ISBLANK(E208),"",IF(ISBLANK(F208),"",E208*F208))
B210: 4.4 | C210: Jaški | G210: =IF(ISBLANK(E210),"",IF(ISBLANK(F210),"",E210*F210))
A212: 9 | B212: 44 133 | C212: Izdelava jaška iz cementnega betona, krožnega prereza s premerom 50 cm, globokega 1,5 do 2,0 m (P8) | D212: kos | E212: 1 | G212: =IF(ISBLANK(E212),"",IF(ISBLANK(F212),"",E212*F212))
A214: 10 | B214: 44 142 | C214: Izdelava jaška iz cementnega betona, krožnega prereza s premerom 60 cm, globokega 1,0 do 1,5 m (J7) | D214: kos | E214: 1 | G214: =IF(ISBLANK(E214),"",IF(ISBLANK(F214),"",E214*F214))
A216: 11 | B216: 44 854 | C216: Dobava in vgraditev rešetke iz duktilne litine z nosilnostjo 400 kN, s prerezom 400/400 mm - segmentna - pokrov požiralnika v segmentni muldi (P8) | D216: kos | E216: 1 | G216: =IF(ISBLANK(E216),"",IF(ISBLANK(F216),"",E216*F216))
A218: 12 | B218: 44 972 | C218: Dobava in vgraditev pokrova iz duktilne litine z nosilnostjo 250 kN, krožnega prereza s premerom 600 mm (J7, ponikalnica) | D218: kos | E218: 2 | G218: =IF(ISBLANK(E218),"",IF(ISBLANK(F218),"",E218*F218))
...

Sheet P313-rekapitulacija
A2: Številka projekta: P-313/14
A3: Številka načrta: N-313/14-C
A6: CESTA NA KOMUNALNO DEPONIJO MALA MEŽAKLA (LC 152160)
A7: Rekonstrukcija ceste od km 3+650 do km 4+350 v dolžini 700m
A10: PZI
A15: T.3.2 PROJEKTANTSKI PREDRAČUN
B18: - skupna rekapitulacja
A33: KRANJ, OKTOBER 2014
B40: REKAPITULACIJA
D42: 2. etapa | E42: skupaj
A43: 1.0 | B43: PREDDELA | D43: ='P313-2.etapa'!G42 | E43: ='P313-2.etapa'!G42
A44: 2.0 | B44: ZEMELJSKA DELA IN TEMELJENJE | D44: ='P313-2.etapa'!G43 | E44: ='P313-2.etapa'!G43
A45: 3.0 | B45: VOZIŠČNE KONSTRUKCIJE | D45: ='P313-2.etapa'!G44 | E45: ='P313-2.etapa'!G44
A46: 4.0 | B46: ODVODNJAVANJE | D46: ='P313-2.etapa'!G45 | E46: ='P313-2.etapa'!G45
A47: 5.0 | B47: GRADBENA IN OBRTNIŠKA DELA | D47: ='P313-2.etapa'!G46 -> 0 | E47: ='P313-2.etapa'!G46 -> 0
A48: 6.0 | B48: PROMETNA OPREMA | D48: ='P313-2.etapa'!G47 | E48: ='P313-2.etapa'!G47
A49: 7.0 | B49: STORITVE | D49: ='P313-2.etapa'!G48 | E49: ='P313-2.etapa'!G48
B51: SKUPAJ | D51: =IF(SUM(D43:D49)=0,"",SUM(D43:D49)) | E51: =IF(SUM(E43:E49)=0,"",SUM(E43:E49))
B52: DDV 22% | D52: =D51*0.22 -> #VALUE! | E52: =E51*0.22 -> #VALUE!
B53: VSE SKUPAJ | D53: =D52+D51 -> #VALUE! | E53: =E52+E51 -> #VALUE!
