Workbook
Name Excel_BuiltIn_Print_Area: 'P313-rekapitulacija'!$A$1:$D$52
Name Excel_BuiltIn_Print_Titles: 'P313-rekapitulacija'!#REF!

Sheet P313-2.etapa
B2: Številka projekta: P-313/14
B3: Številka načrta: N-313/14-C
B6: CESTA NA KOMUNALNO DEPONIJO MALA MEŽAKLA (LC 152160)
B7: Rekonstrukcija ceste od km 3+650 do km 4+350 v dolžini 700m
B10: PZI
B15: T.3.2.2 PROJEKTANTSKI PREDRAČUN
C18: - 2. etapa (km 4+050 - km 4+350)
B33: KRANJ, OKTOBER 2014
C40: REKAPITULACIJA
B42: 1.0 | C42: PREDDELA | G42: =G99
B43: 2.0 | C43: ZEMELJSKA DELA IN TEMELJENJE | G43: =G152
B44: 3.0 | C44: VOZIŠČNE KONSTRUKCIJE | G44: =G183
B45: 4.0 | C45: ODVODNJAVANJE | G45: =G224
B46: 5.0 | C46: GRADBENA IN OBRTNIŠKA DELA | G46: =G235 -> 0
B47: 6.0 | C47: PROMETNA OPREMA | G47: =G270
B48: 7.0 | C48: STORITVE | G48: =G283
C50: VSE SKUPAJ | G50: =IF(SUM(G42:G48)=0,"",SUM(G42:G48))
A53: Zap.št. | B53: Šifra | C53: Opis del | D53: Enota | E53: Količina | F53: Cena | G53: Vrednost
B55: 1. | C55: PREDDELA
B57: 1.1 | C57: Geodetska dela
A59: 1 | B59: 11 122 | C59: Obnova in zavarovanje zakoličbe osi trase ostale javne ceste v gričevnatem terenu | D59: km | E59: 0.3 | G59: =IF(ISBLANK(E59),"",IF(ISBLANK(F59),"",E59*F59))
A61: 2 | B61: 11 222 | C61: Postavitev in zavarovanje prečnega profila ostale javne ceste v gričevnatem terenu | D61: kos | E61: 30 | G61: =IF(ISBLANK(E61),"",IF(ISBLANK(F61),"",E61*F61))
B63: 1.2 | C63: Čiščenje terena | G63: =IF(ISBLANK(E63),"",IF(ISBLANK(F63),"",E63*F63))
B65: 1.2.1 | C65: Odstranitev grmovja, dreves, vej in panjev | G65: =IF(ISBLANK(E65),"",IF(ISBLANK(F65),"",E65*F65))
A67: 3 | B67: 12 111 | C67: Odstranitev grmovja na redko porasli površini (do 50 % pokritega tlorisa) - ročno (ocena) | D67: m2 | E67: 100 | G67: =IF(ISBLANK(E67),"",IF(ISBLANK(F67),"",E67*F67))
A69: 4 | B69: 12 131 | C69: Odstranitev grmovja in dreves z debli premera do 10 cm ter vej na redko porasli površini - ročno (ocena) | D69: m2 | E69: 200 | G69: =IF(ISBLANK(E69),"",IF(ISBLANK(F69),"",E69*F69))
B71: 1.2.2 | C71: Odstranitev prometne signalizacije in opreme | G71: =IF(ISBLANK(E71),"",IF(ISBLANK(F71),"",E71*F71))
A73: 5 | B73: 12 211 | C73: Demontaža prometnega znaka na enem podstavku | D73: kos | E73: 2 | G73: =IF(ISBLANK(E73),"",IF(ISBLANK(F73),"",E73*F73))
B75: 1.2.3 | C75: Porušitev in odstranitev voziščnih konstrukcij | G75: =IF(ISBLANK(E75),"",IF(ISBLANK(F75),"",E75*F75))
A77: 6 | B77: 12 322 | C77: Porušitev in odstranitev asfaltne plasti v debelini 6 do 10 cm | D77: m2 | E77: 22 | G77: =IF(ISBLANK(E77),"",IF(ISBLANK(F77),"",E77*F77))
A79: 13 | B79: 12 331 | C79: Porušitev in odstranitev cementnobetonske krovne plasti v debelini do 15 cm (betonirane mulde) | D79: m3 | E79: 0 | F79: 38 | G79: =IF(ISBLANK(E79),"",IF(ISBLANK(F79),"",E79*F79)) -> 0
A81: 7 | B81: 12 382 | C81: Rezanje asfaltne plasti s talno diamantno žago, debele 6 do 10 cm | D81: m1 | E81: 14 | G81: =IF(ISBLANK(E81),"",IF(ISBLANK(F81),"",E81*F81))
B83: 1.2.4 | C83: Porušitev in odstranitev objektov | G83: =IF(ISBLANK(E83),"",IF(ISBLANK(F83),"",E83*F83))
A85: 8 | B85: - | C85: Odstranitev kovinskih drežnikov | D85: m1 | E85: 12 | G85: =IF(ISBLANK(E85),"",IF(ISBLANK(F85),"",E85*F85))
A87: 9 | B87: - | C87: Odstranitev dvokrilnih kovinskih vrat dolžine 5,5m | D87: kos | E87: 1 | G87: =IF(ISBLANK(E87),"",IF(ISBLANK(F87),"",E87*F87))
B89: 1.3 | C89: Ostala preddela | G89: =IF(ISBLANK(E89),"",IF(ISBLANK(F89),"",E89*F89))
B91: 1.3.1 | C91: Omejitve prometa | G91: =IF(ISBLANK(E91),"",IF(ISBLANK(F91),"",E91*F91))
G92: =IF(ISBLANK(E92),"",IF(ISBLANK(F92),"",E92*F92))
A93: 10 | B93: 13 111 | C93: Zavarovanje gradbišča v času gradnje s polovično zaporo prometa in usmerjanjem s semaforji (predviden za ves čas gradnje) | D93: kom | E93: 1 | G93: =IF(ISBLANK(E93),"",IF(ISBLANK(F93),"",E93*F93))
B95: 1.9 | C95: Odstranitev ograj
...

Sheet P313-rekapitulacija
A2: Številka projekta: P-313/14
A3: Številka načrta: N-313/14-C
A6: CESTA NA KOMUNALNO DEPONIJO MALA MEŽAKLA (LC 152160)
A7: Rekonstrukcija ceste od km 3+650 do km 4+350 v dolžini 700m
A10: PZI
A15: T.3.2 PROJEKTANTSKI PREDRAČUN
B18: - skupna rekapitulacja
A33: KRANJ, OKTOBER 2014
B40: REKAPITULACIJA
D42: 2. etapa | E42: skupaj
A43: 1.0 | B43: PREDDELA | D43: ='P313-2.etapa'!G42 | E43: ='P313-2.etapa'!G42
A44: 2.0 | B44: ZEMELJSKA DELA IN TEMELJENJE | D44: ='P313-2.etapa'!G43 | E44: ='P313-2.etapa'!G43
A45: 3.0 | B45: VOZIŠČNE KONSTRUKCIJE | D45: ='P313-2.etapa'!G44 | E45: ='P313-2.etapa'!G44
A46: 4.0 | B46: ODVODNJAVANJE | D46: ='P313-2.etapa'!G45 | E46: ='P313-2.etapa'!G45
A47: 5.0 | B47: GRADBENA IN OBRTNIŠKA DELA | D47: ='P313-2.etapa'!G46 -> 0 | E47: ='P313-2.etapa'!G46 -> 0
A48: 6.0 | B48: PROMETNA OPREMA | D48: ='P313-2.etapa'!G47 | E48: ='P313-2.etapa'!G47
A49: 7.0 | B49: STORITVE | D49: ='P313-2.etapa'!G48 | E49: ='P313-2.etapa'!G48
B51: SKUPAJ | D51: =IF(SUM(D43:D49)=0,"",SUM(D43:D49)) | E51: =IF(SUM(E43:E49)=0,"",SUM(E43:E49))
B52: DDV 22% | D52: =D51*0.22 -> #VALUE! | E52: =E51*0.22 -> #VALUE!
B53: VSE SKUPAJ | D53: =D52+D51 -> #VALUE! | E53: =E52+E51 -> #VALUE!
